BEGIN:VCALENDAR
VERSION:2.0
PRODID:-//ChamberMaster//Event Calendar 2.0//EN
METHOD:PUBLISH
X-PUBLISHED-TTL:P3D
REFRESH-INTERVAL:P3D
CALSCALE:GREGORIAN
BEGIN:VEVENT
DTSTART:20140524T140000Z
DTEND:20140524T140000Z
X-MICROSOFT-CDO-ALLDAYEVENT:FALSE
SUMMARY:Memorial Day Parade & Ceremony
DESCRIPTION:Memorial Day Parade & Ceremony\n\nSaturday\, May 24\, 2014 10:00am\n\nTheme: "For God and Country\, Support Our Troops" \n\n\n\nThe parade route will wind around the old courthouse and end at the Union County War Memorial Park. Join us at the Union County War Memorial Park following the parade for a Ceremony honoring our U.S. men and women who died while in military service.
X-ALT-DESC;FMTTYPE=text/html:<em><strong>Memorial Day Parade &amp\; Ceremony<br />\nSaturday\, May 24\, 2014 10:00am<br />\nTheme: &quot\;For God and Country\, Support Our Troops&quot\; </strong></em><br />\n<br />\nThe parade route will wind around the old courthouse and end at the Union County War Memorial Park. Join us at the Union County War Memorial Park following the parade for a Ceremony honoring our U.S. men and women who died while in military service.
LOCATION:Downtown on the Square Blairsville
UID:e.256.23507
SEQUENCE:3
DTSTAMP:20260424T122205Z
URL:https://members.visitblairsvillega.com/events/details/memorial-day-parade-ceremony-05-24-2014-23507
END:VEVENT

END:VCALENDAR
