BEGIN:VCALENDAR
VERSION:2.0
PRODID:-//ChamberMaster//Event Calendar 2.0//EN
METHOD:PUBLISH
X-PUBLISHED-TTL:P3D
REFRESH-INTERVAL:P3D
CALSCALE:GREGORIAN
BEGIN:VEVENT
DTSTART:20170528T180000Z
DTEND:20170528T210000Z
X-MICROSOFT-CDO-ALLDAYEVENT:FALSE
SUMMARY:Memorial Day Weekend Music and BBQ ft Heidi Holton at Hightower Creek Vineyards
DESCRIPTION:Heidi Holton will be here today entertaining us with a delightful combination of guitar and singing. $10.00/person includes a glass of wine or tasting. Bring a picnic lunch! Cheese and snacks available\, as well as BBQ sandwiches for $5.00. Children and leashed dogs welcome.
X-ALT-DESC;FMTTYPE=text/html:<span style="color:rgb(112\, 112\, 112)\; font-family:open sans\; font-size:14px">Heidi Holton will be here today entertaining us with a delightful combination of guitar and singing. $10.00/person includes a glass of wine or tasting. Bring a picnic lunch!&nbsp\;Cheese and snacks available\, as well as BBQ sandwiches for $5.00. Children and leashed dogs welcome.</span>
LOCATION:7150 Canaan Drive Hiawassee\, GA 30546
UID:e.256.72368
SEQUENCE:3
DTSTAMP:20260420T010628Z
URL:https://members.visitblairsvillega.com/events/details/memorial-day-weekend-music-and-bbq-ft-heidi-holton-at-hightower-creek-vineyards-72368
END:VEVENT

END:VCALENDAR
