BEGIN:VCALENDAR
VERSION:2.0
PRODID:-//ChamberMaster//Event Calendar 2.0//EN
METHOD:PUBLISH
X-PUBLISHED-TTL:P3D
REFRESH-INTERVAL:P3D
CALSCALE:GREGORIAN
BEGIN:VEVENT
DTSTART:20150523T000000Z
DTEND:20150523T030000Z
X-MICROSOFT-CDO-ALLDAYEVENT:FALSE
SUMMARY:Memorial Day Weekend Rodeo
DESCRIPTION:Memorial Day Weekend Rodeo Cutworm's Corral 4637 Downings Creek Rd Hayesville\, NC Friday\, May 22\, 2015 and Saturday\, May 23\, 2015 Starts at 8 PM each night Bucking Horses\, Team Roping\, Calf Roping\, Steer Wrestling\, Cowgirls Breakaway Roping\, Cowgirls Barrel Racing and Bull Riding. Fore more info: 706-897-0956 www.facebook.com/BarWRodeoCo
X-ALT-DESC;FMTTYPE=text/html:Memorial Day Weekend Rodeo Cutworm&#39\;s Corral 4637 Downings Creek Rd Hayesville\, NC Friday\, May 22\, 2015 and Saturday\, May 23\, 2015 Starts at 8 PM each night Bucking Horses\, Team Roping\, Calf Roping\, Steer Wrestling\, Cowgirls Breakaway Roping\, Cowgirls Barrel Racing and Bull Riding. Fore more info: 706-897-0956 www.facebook.com/BarWRodeoCo
LOCATION:Cutworm's Corral 4637 Downings Creek Rd Hayesville\, NC
UID:e.256.37477
SEQUENCE:3
DTSTAMP:20260423T182158Z
URL:https://members.visitblairsvillega.com/events/details/memorial-day-weekend-rodeo-05-22-2015-37477
END:VEVENT

END:VCALENDAR
