BEGIN:VCALENDAR
VERSION:2.0
PRODID:-//ChamberMaster//Event Calendar 2.0//EN
METHOD:PUBLISH
X-PUBLISHED-TTL:P3D
REFRESH-INTERVAL:P3D
CALSCALE:GREGORIAN
BEGIN:VEVENT
DTSTART:20170529T180000Z
DTEND:20170529T210000Z
X-MICROSOFT-CDO-ALLDAYEVENT:FALSE
SUMMARY:Memorial Day Wkend Music & BBQ ft Dr Paul Constantine at Hightower Creek Vineyards
DESCRIPTION:We have the funny stories\, guitar picking\, and singing brought to us by Dr. Paul Constantine today. He is such a talented performer! Come join us for music wine\, and BBQ this afternoon. $10.00/person includes a glass of wine or tasting. Bring a picnic lunch! Cheese and snacks available\, as well as BBQ sandwiches for $5.00. Children and leashed dogs welcome.
X-ALT-DESC;FMTTYPE=text/html:<span style="color:rgb(112\, 112\, 112)\; font-family:open sans\; font-size:14px">We have the funny stories\, guitar picking\, and singing brought to us by Dr. Paul Constantine today. He is such a talented performer! Come join us for music wine\, and BBQ this afternoon. $10.00/person includes a glass of wine or tasting. Bring a picnic lunch!&nbsp\;Cheese and snacks available\, as well as BBQ sandwiches for $5.00. Children and leashed dogs welcome.</span>
LOCATION:7150 Canaan Drive Hiawassee\, GA 30546
UID:e.256.72369
SEQUENCE:3
DTSTAMP:20260420T021038Z
URL:https://members.visitblairsvillega.com/events/details/memorial-day-wkend-music-bbq-ft-dr-paul-constantine-at-hightower-creek-vineyards-72369
END:VEVENT

END:VCALENDAR
