BEGIN:VCALENDAR
VERSION:2.0
PRODID:-//ChamberMaster//Event Calendar 2.0//EN
METHOD:PUBLISH
X-PUBLISHED-TTL:P3D
REFRESH-INTERVAL:P3D
CALSCALE:GREGORIAN
BEGIN:VEVENT
DTSTART:20150912T143000Z
DTEND:20150912T153000Z
X-MICROSOFT-CDO-ALLDAYEVENT:FALSE
SUMMARY:Memorial Service for Aborted Children
DESCRIPTION:Local Ecumenical Memorial Service for Aborted Children On Saturday\, September 12\, pro-life Americans throughout the country will gather at the gravesites of aborted babies and other memorial sites dedicated in their honor for the third annual National Day of Remembrance for Aborted Children. Solemn vigils will be held at these sites to commemorate the more than 57 million children who have lost their lives to legal abortion since 1973\, and to remind our society of the humanity of the unborn child. Please join us for the memorial service in our community to pray for a final end to this injustice and for healing for all those who have been part of an abortion decision . Local pastors and speakers from various local churches will participate Event: National Day of Remembrance for Aborted Children When: Saturday\, September 12\, Ecumenical service 10:30am following the 9am Mass (All welcome!) Where: St. Francis of Assisi Church\, 3717 Hwy 515 E\, Blairsville\, GA 30512 More Info: Call Jeannine Murphy\, gamurphs@windstream.net 706-745-4590 Together let us remember the victims of abortion and pray for a final end to this injustice in our land during the National Day of Remembrance for Aborted Children.
X-ALT-DESC;FMTTYPE=text/html:Local Ecumenical Memorial Service for Aborted Children On Saturday\, September 12\, pro-life Americans throughout the country will gather at the gravesites of aborted babies and other memorial sites dedicated in their honor for the third annual National Day of Remembrance for Aborted Children. Solemn vigils will be held at these sites to commemorate the more than 57 million children who have lost their lives to legal abortion since 1973\, and to remind our society of the humanity of the unborn child. Please join us for the memorial service in our community to pray for a final end to this injustice and for healing for all those who have been part of an abortion decision . Local pastors and speakers from various local churches will participate Event: National Day of Remembrance for Aborted Children When: Saturday\, September 12\, Ecumenical service 10:30am following the 9am Mass (All welcome!) Where: St. Francis of Assisi Church\, 3717 Hwy 515 E\, Blairsville\, GA 30512 More Info: Call Jeannine Murphy\, gamurphs@windstream.net 706-745-4590 Together let us remember the victims of abortion and pray for a final end to this injustice in our land during the National Day of Remembrance for Aborted Children.
LOCATION:St. Francis of Assisi Church
UID:e.256.41388
SEQUENCE:3
DTSTAMP:20260423T133315Z
URL:https://members.visitblairsvillega.com/events/details/memorial-service-for-aborted-children-09-12-2015-41388
END:VEVENT

END:VCALENDAR
