BEGIN:VCALENDAR
VERSION:2.0
PRODID:-//ChamberMaster//Event Calendar 2.0//EN
METHOD:PUBLISH
X-PUBLISHED-TTL:P3D
REFRESH-INTERVAL:P3D
CALSCALE:GREGORIAN
BEGIN:VEVENT
DTSTART:20170527T200000Z
DTEND:20170528T000000Z
X-MICROSOFT-CDO-ALLDAYEVENT:FALSE
SUMMARY:Memorial Weekend Special Shrimp And Grits @NANI'S Cuban Restaurant
DESCRIPTION:Memorial weekend special \n\nNothing says summer like seafood\, so come and join us for a special treat.\n\nSHRIMP AND GRITS @NANI'S CUBAN RESTAURANT \n\nFRIDAY AND SATURDAY DINNER SPECIAL \n\nOne of Nani's  signature special dishes Shrimp and grits\;  on Friday and Saturday from 4 to 8 pm.  We use local grits from Logans Mills pair with ou shrimp on a combination of Nani's  garlic sauce and Chimichurri sauce to accent  the flavor of our creamy grits. Come an join us@ 706 745 0010.  Please for groups more than  4 please call ahead for reservations.   You can byob we got glassware at no extra charge.
X-ALT-DESC;FMTTYPE=text/html:<span style="background-color:rgb(255\, 255\, 255)\; color:rgb(51\, 51\, 51)\; font-family:sans-serif\,arial\,verdana\,trebuchet ms\; font-size:13px">Memorial weekend special&nbsp\;<br />\nNothing says summer like seafood\, so come and join us for a special treat.<br />\nSHRIMP AND GRITS @NANI&#39\;S CUBAN RESTAURANT&nbsp\;</span><br />\n<span style="background-color:rgb(255\, 255\, 255)\; color:rgb(51\, 51\, 51)\; font-family:sans-serif\,arial\,verdana\,trebuchet ms\; font-size:13px">FRIDAY AND SATURDAY DINNER SPECIAL&nbsp\;</span><br />\n<span style="background-color:rgb(255\, 255\, 255)\; color:rgb(51\, 51\, 51)\; font-family:sans-serif\,arial\,verdana\,trebuchet ms\; font-size:13px">One of Nani&#39\;s &nbsp\;signature special dishes Shrimp and grits\; &nbsp\;on Friday and Saturday from 4 to 8 pm. &nbsp\;We use local grits from Logans Mills pair with ou shrimp on a combination of Nani&#39\;s &nbsp\;garlic sauce and Chimichurri sauce to accent &nbsp\;the flavor of our creamy grits. Come an join us@ 706 745 0010. &nbsp\;Please for groups more than &nbsp\;4 please call ahead for reservations. &nbsp\; You can byob we got glassware at no extra charge.</span>
LOCATION:Nani's Cuban Restaurant 51 D Earnest Street Blairsville\, GA
UID:e.256.73863
SEQUENCE:3
DTSTAMP:20260420T021005Z
URL:https://members.visitblairsvillega.com/events/details/memorial-weekend-special-shrimp-and-grits-nani-s-cuban-restaurant-05-27-2017-73863
END:VEVENT

END:VCALENDAR
