BEGIN:VCALENDAR
VERSION:2.0
PRODID:-//ChamberMaster//Event Calendar 2.0//EN
METHOD:PUBLISH
X-PUBLISHED-TTL:P3D
REFRESH-INTERVAL:P3D
CALSCALE:GREGORIAN
BEGIN:VEVENT
DTSTART:20170526T200000Z
DTEND:20170527T000000Z
X-MICROSOFT-CDO-ALLDAYEVENT:FALSE
SUMMARY:Memorial Weekend Special Shrimp and Grits @Nani's Cuban Restaurant
DESCRIPTION:MEMORIAL WEEKEND SPECIAL\n\nNOTHING SAY SUMMER THE SEAFOOD!\n\nSHRIMP AND GRITS @NANI'S CUBAN RESTAURANT \n\nFRIDAY AND SATURDAY DINNER SPECIAL \n\nOne of Nani's  signature special dishes Shrimp and grits\;  on Friday and Saturday from 4 to 8 pm.  We use local grits from Logans Mills pair with ou shrimp on a combination of Nani's  garlic sauce and Chimichurri sauce to accent  the flavor of our creamy grits. Come an join us@ 706 745 0010.  Please for groups more than  4 please call ahead for reservations.   You can byob we got glassware at no extra charge.
X-ALT-DESC;FMTTYPE=text/html:MEMORIAL WEEKEND SPECIAL<br />\nNOTHING SAY SUMMER THE SEAFOOD!<br />\nSHRIMP AND GRITS @NANI&#39\;S CUBAN RESTAURANT&nbsp\;<br />\nFRIDAY AND SATURDAY DINNER SPECIAL&nbsp\;<br />\nOne of Nani&#39\;s &nbsp\;signature special dishes Shrimp and grits\; &nbsp\;on Friday and Saturday from 4 to 8 pm. &nbsp\;We use local grits from Logans Mills pair with ou shrimp on a combination of Nani&#39\;s &nbsp\;garlic sauce and Chimichurri sauce to accent &nbsp\;the flavor of our creamy grits. Come an join us@ 706 745 0010. &nbsp\;Please for groups more than &nbsp\;4 please call ahead for reservations. &nbsp\; You can byob we got glassware at no extra charge.<br />\n&nbsp\;
LOCATION:Nani's Cuban Restaurant 51 D Earnest Street Blairsville\, GA
UID:e.256.73862
SEQUENCE:3
DTSTAMP:20260420T010640Z
URL:https://members.visitblairsvillega.com/events/details/memorial-weekend-special-shrimp-and-grits-nani-s-cuban-restaurant-73862
END:VEVENT

END:VCALENDAR
