BEGIN:VCALENDAR
VERSION:2.0
PRODID:-//ChamberMaster//Event Calendar 2.0//EN
METHOD:PUBLISH
X-PUBLISHED-TTL:P3D
REFRESH-INTERVAL:P3D
CALSCALE:GREGORIAN
BEGIN:VEVENT
DTSTART:20160723T230000Z
DTEND:20160724T020000Z
X-MICROSOFT-CDO-ALLDAYEVENT:FALSE
SUMMARY:Mercier Orchards Presents Music Under The Stars With Kharisma!
DESCRIPTION:Mercier Orchards presents Music Under The Stars with the band Kharisma! Saturday\, July 23rd from 7 pm - 10 pm Advance ticked purchase - $15.00 Purchase at the gate - $20.00 Reserve a table for 8 people - $150.00 For more information\, ticket purchase & reservations call 706-632-3411\, or visit--www.kharismajazzmaticfunk.com (Bring lawn chairs\, no pets\, no coolers)
X-ALT-DESC;FMTTYPE=text/html:Mercier Orchards presents Music Under The Stars with the band Kharisma! Saturday\, July 23rd from 7 pm - 10 pm Advance ticked purchase - $15.00 Purchase at the gate - $20.00 Reserve a table for 8 people - $150.00 For more information\, ticket purchase &amp\; reservations call 706-632-3411\, or visit--www.kharismajazzmaticfunk.com (Bring lawn chairs\, no pets\, no coolers)
LOCATION:8660 Blue Ridge Drive\, Blue Ridge\, GA 30513
UID:e.256.54006
SEQUENCE:3
DTSTAMP:20260420T204352Z
URL:https://members.visitblairsvillega.com/events/details/mercier-orchards-presents-music-under-the-stars-with-kharisma-07-23-2016-54006
END:VEVENT

END:VCALENDAR
