BEGIN:VCALENDAR
VERSION:2.0
PRODID:-//ChamberMaster//Event Calendar 2.0//EN
METHOD:PUBLISH
X-PUBLISHED-TTL:P3D
REFRESH-INTERVAL:P3D
CALSCALE:GREGORIAN
BEGIN:VEVENT
DTSTART:20140517T233000Z
DTEND:20140518T023000Z
X-MICROSOFT-CDO-ALLDAYEVENT:FALSE
SUMMARY:MercyMe
DESCRIPTION:Since their inception\, MercyMe's music has fueled a continual dialog both among people of faith and those who are grasping for it. Whether offering up encouragement with their multi-format hit I Can Only Imagine or inciting random acts of kindness with their 2010 album\, The Generous Mr. Lovewell\, MercyMe creates music that enlightens\, entertains and invites community among a broad spectrum of people.
X-ALT-DESC;FMTTYPE=text/html:Since their inception\, MercyMe&#39\;s music has fueled a continual dialog both among people of faith and those who are grasping for it. Whether offering up encouragement with their multi-format hit I Can Only Imagine or inciting random acts of kindness with their 2010 album\, The Generous Mr. Lovewell\, MercyMe creates music that enlightens\, entertains and invites community among a broad spectrum of people.
LOCATION:Smoky Mountain Center for the Performing Arts 1028 Georgia Road Franklin\, NC 28734
UID:e.256.24312
SEQUENCE:3
DTSTAMP:20260424T133316Z
URL:https://members.visitblairsvillega.com/events/details/mercyme-05-17-2014-24312
END:VEVENT

END:VCALENDAR
