BEGIN:VCALENDAR
VERSION:2.0
PRODID:-//ChamberMaster//Event Calendar 2.0//EN
METHOD:PUBLISH
X-PUBLISHED-TTL:P3D
REFRESH-INTERVAL:P3D
CALSCALE:GREGORIAN
BEGIN:VEVENT
DTSTART:20170325T230000Z
DTEND:20170326T023000Z
X-MICROSOFT-CDO-ALLDAYEVENT:FALSE
SUMMARY:MercyMe in Concert
DESCRIPTION:A great concert in the Anderson Music Hall at the Georgia Mountain Fairgrounds in Hiawassee\, GA. Tickets go on sale February 3 at 8:30 AM\, online Feb. 2 after 10 PM at http://www.georgiamountainfairgrounds.com
X-ALT-DESC;FMTTYPE=text/html:A great concert in the Anderson Music Hall at the Georgia Mountain Fairgrounds in Hiawassee\, GA. Tickets go on sale February 3 at 8:30 AM\, online Feb. 2 after 10 PM at http://www.georgiamountainfairgrounds.com
LOCATION:Georgia Mountain Fairgrounds 1311 Music Hall Road Hiawassee\, GA 30546
UID:e.256.63238
SEQUENCE:3
DTSTAMP:20260420T055846Z
URL:https://members.visitblairsvillega.com/events/details/mercyme-in-concert-63238
END:VEVENT

END:VCALENDAR
