BEGIN:VCALENDAR
VERSION:2.0
PRODID:-//ChamberMaster//Event Calendar 2.0//EN
METHOD:PUBLISH
X-PUBLISHED-TTL:P3D
REFRESH-INTERVAL:P3D
CALSCALE:GREGORIAN
BEGIN:VEVENT
DTSTART:20140530T223000Z
DTEND:20140531T003000Z
X-MICROSOFT-CDO-ALLDAYEVENT:FALSE
SUMMARY:Merlot's Masterpiece
DESCRIPTION:Merlot's Masterpiece with Vicki Wagoner\n\nMay 30 6:30pm - 8:30pm\n\n$40 non-member $36 BRMAA Member\n\nIncludes canvas and paints \n\n\nGet ready for an evening of fun as you paint a selected picture while enjoying your favorite wine. The Art Center has created the Merlot's Masterpiece experience for individuals or groups of friends with little painting experience who want to have fun and paint! We select a painting per class for participants to paint together and our instructor will facilitate you in completing a painting in the allotted time. On the day of the class\, we ask that you arrive 15-20 minutes before the class starts so that you can be seated with paint brushes and drinks ready. We like to begin class promptly at 6:30pm.Class fee includes the following supplies: one canvas\, pack of brushes\, acrylic paint\, and one glass of wine. No beer is allowed. If needed\, we will have some wine for sale by the glass. You must be 21 years of age to consume alcohol and we ask that you please drink responsibly.
X-ALT-DESC;FMTTYPE=text/html:<div style="text-align: center\;"><strong>Merlot&#39\;s Masterpiece with Vicki Wagoner<br />\nMay 30 6:30pm&nbsp\;- 8:30pm<br />\n$40 non-member $36 BRMAA Member<br />\nIncludes canvas and paints </strong></div>\n<br />\nGet ready for an evening of fun as you paint a selected picture while enjoying your favorite wine. The Art Center has created the Merlot&#39\;s Masterpiece experience for individuals or groups of friends with little painting experience who want to have fun and paint! We select a painting per class for participants to paint together and our instructor will facilitate you in completing a painting in the allotted time. On the day of the class\, we ask that you arrive 15-20 minutes before the class starts so that you can be seated with paint brushes and drinks ready. We like to begin class promptly at 6:30pm.Class fee includes the following supplies: one canvas\, pack of brushes\, acrylic paint\, and one glass of wine. No beer is allowed. If needed\, we will have some wine for sale by the glass. You must be 21 years of age to consume alcohol and we ask that you please drink responsibly.
LOCATION:Blue Ridge Mountains Arts Association 420 West Main Street Blue Ridge\, GA
UID:e.256.24532
SEQUENCE:3
DTSTAMP:20260424T133431Z
URL:https://members.visitblairsvillega.com/events/details/merlot-s-masterpiece-05-30-2014-24532
END:VEVENT

END:VCALENDAR
