BEGIN:VCALENDAR
VERSION:2.0
PRODID:-//ChamberMaster//Event Calendar 2.0//EN
METHOD:PUBLISH
X-PUBLISHED-TTL:P3D
REFRESH-INTERVAL:P3D
CALSCALE:GREGORIAN
BEGIN:VEVENT
DTSTART:20160529T000000Z
DTEND:20160529T030000Z
X-MICROSOFT-CDO-ALLDAYEVENT:FALSE
SUMMARY:Michael Hulett Concert at Jim's Smokin' Que
DESCRIPTION:Jim's Smokin' Que is excited to bring the soulful sounds of Michael Hulett to our town. Kick back and enjoy Michael's saxophone and vocals with some of the best soul\, rock\, and jazz tunes around. Admission is $10\, and bring a chair and picnic basket as the restaurant will not be open. No alcoholic beverages\, please. Advance tickets can be purchased at the restaurant. Come on out and see Donna & Jim and plan on enjoying a musical evening under the stars.
X-ALT-DESC;FMTTYPE=text/html:<span style="font-size: medium\;"><span style="font-family: calibri\;">Jim&#39\;s Smokin&#39\; Que is excited to bring the soulful sounds of Michael Hulett to our town. Kick back and enjoy Michael&rsquo\;s saxophone and vocals with some of the best soul\, rock\, and jazz tunes around. Admission is $10\, and bring a chair and picnic basket as the restaurant will not be open. No alcoholic beverages\, please. Advance tickets can be purchased at the restaurant. Come on out and see Donna &amp\; Jim and plan on enjoying a musical evening under the stars.</span></span><br />\n&nbsp\;
LOCATION:Jim's Smokin' Que 4971 Gainesville Hwy
UID:e.256.44999
SEQUENCE:3
DTSTAMP:20260421T002845Z
URL:https://members.visitblairsvillega.com/events/details/michael-hulett-concert-at-jim-s-smokin-que-05-28-2016-44999
END:VEVENT

END:VCALENDAR
