BEGIN:VCALENDAR
VERSION:2.0
PRODID:-//ChamberMaster//Event Calendar 2.0//EN
METHOD:PUBLISH
X-PUBLISHED-TTL:P3D
REFRESH-INTERVAL:P3D
CALSCALE:GREGORIAN
BEGIN:VEVENT
DTSTART:20151114T230000Z
DTEND:20151115T020000Z
X-MICROSOFT-CDO-ALLDAYEVENT:FALSE
SUMMARY:Michael Hulett performing at Hightower Creek Vineyards
DESCRIPTION:Join us on Saturday\, November 14 for a special concert with one of our favorite performers\, Michael Hulett. The night may be chilly\, but Michael's hot jazz will keep everyone warm! With sounds of the soul greats\, rock vibes\, and romantic tunes\, Michael Hulett's saxophone and vocals captivate every audience.\n\nMichael's repertoire includes classics like Frank Sinatra\, Nat King Cole\, and all the Jazz favorites. Michael also writes and plays the C-Jazz like Kenny G.\, as well as some of your old R&B favorites like My Girl and Sugar Pie Honey Bunch from some of the greats like Bobby Darin and Al Green.\n\nLive music from 6-9pm. $15.00 admission includes a glass of wine. Outside food is permitted. Come enjoy the evening with us!
X-ALT-DESC;FMTTYPE=text/html:<div>\n<div>\n<p>Join us on Saturday\, November 14 for a special concert with one of our favorite performers\, Michael Hulett. The night may be chilly\, but Michael&rsquo\;s hot jazz will keep everyone warm! With sounds of the soul greats\, rock vibes\, and romantic tunes\, Michael Hulett&rsquo\;s saxophone and vocals captivate every audience.</p>\n\n<p>Michael&rsquo\;s repertoire includes classics like Frank Sinatra\, Nat King Cole\, and all the Jazz favorites. Michael also writes and plays the C-Jazz like Kenny G.\, as well as some of your old R&amp\;B favorites like My Girl and Sugar Pie Honey Bunch from some of the greats like Bobby Darin and Al Green.</p>\n\n<p>Live music from 6-9pm. $15.00 admission includes a glass of wine. Outside food is permitted. Come enjoy the evening with us!</p>\n\n<div>&nbsp\;</div>\n</div>\n</div>\n
LOCATION:7150 Canaan Drive Hiawassee\, GA 30546
UID:e.256.44547
SEQUENCE:3
DTSTAMP:20260423T084025Z
URL:https://members.visitblairsvillega.com/events/details/michael-hulett-performing-at-hightower-creek-vineyards-11-14-2015-44547
END:VEVENT

END:VCALENDAR
