BEGIN:VCALENDAR
VERSION:2.0
PRODID:-//ChamberMaster//Event Calendar 2.0//EN
METHOD:PUBLISH
X-PUBLISHED-TTL:P3D
REFRESH-INTERVAL:P3D
CALSCALE:GREGORIAN
BEGIN:VEVENT
DTSTART:20140503T233000Z
DTEND:20140504T020000Z
X-MICROSOFT-CDO-ALLDAYEVENT:FALSE
SUMMARY:Michelle Malone in Concert
DESCRIPTION:Another Blue Ridge favorite\, Michelle Malone\, is back by popular demand on Saturday May\, 3\, armed with a bottleneck slide\, harmonica\, and her signature soul-filled vocals.   Malone will once again be rocking the theater! Over her 20 year career\, Malone has appeared on countless ?best of? lists and has been the recipient of such awards as Best Female Vocalist  and Best Acoustic Guitarist (Creative Loafing)\, Studio Album of the Year (Atlanta Magazine)\, and Live Album of the year.  For more information go to www.michellemalone.com. A variety of musical genres populate this year?s line-up with music and entertainment for all ages.  Tickets for each performance are $20.00.  With a full line-up of concerts for the entire year\, concert goers can purchase tickets to 4 concerts and receive a discount of 15% or they can buy a five or more concert ticket package and get a discount of 20%.  Call the box office to inquire about our new group ticket prices and new Student Concert Ticket Price (student ID required) at 706 632 -9223 or purchase tickets online at www.BlueRidgeCommunityTheater.com. All performances begin at 7:30 PM.  A variety of musical genres populate this year?s line-up with music and entertainment for all ages.  Tickets for each performance are $20.00.  With a full line-up of concerts for the entire year\, concert goers can purchase tickets to 4 concerts and receive a discount of 15% or they can buy a five or more concert ticket package and get a discount of 20%.  Call the box office to inquire about our new group ticket prices and new Student Concert Ticket Price (student ID required) at 706 632 -9223 or purchase tickets online at www.BlueRidgeCommunityTheater.com. All performances begin at 7:30 PM.  Live Music Is Better concert series is sponsored by the Blue Ridge Community Theater\, Inc. a 501- (c) 3 volunteer based non-profit corporation committed to bringing excellent performing arts entertainment to the North Georgia communities. For more information about Main Stage productions\, Sunny D Children?s Theater or the music concert series go to www.BlueRidgeCommunityTheater.com. Theater is located at 2591 East First Street .
X-ALT-DESC;FMTTYPE=text/html:Another Blue Ridge favorite\, Michelle Malone\, is back by popular demand on Saturday May\, 3\, armed with a bottleneck slide\, harmonica\, and her signature soul-filled vocals. &nbsp\; Malone will once again be rocking the theater! Over her 20 year career\, Malone has appeared on countless ?best of? lists and has been the recipient of such awards as Best Female Vocalist &nbsp\;and Best Acoustic Guitarist (Creative Loafing)\, Studio Album of the Year (Atlanta Magazine)\, and Live Album of the year. &nbsp\;For more information go to www.michellemalone.com.&nbsp\;A variety of musical genres populate this year?s line-up with music and entertainment for all ages. &nbsp\;Tickets for each performance are $20.00. &nbsp\;With a full line-up of concerts for the entire year\, concert goers can purchase tickets to 4 concerts and receive a discount of 15% or they can buy a five or more concert ticket package and get a discount of 20%.&nbsp\; Call the box office to inquire about our new group ticket prices and new Student Concert Ticket Price (student ID required) at 706 632 -9223 or purchase tickets online at www.BlueRidgeCommunityTheater.com. All performances begin at 7:30 PM.&nbsp\; A variety of musical genres populate this year?s line-up with music and entertainment for all ages. &nbsp\;Tickets for each performance are $20.00. &nbsp\;With a full line-up of concerts for the entire year\, concert goers can purchase tickets to 4 concerts and receive a discount of 15% or they can buy a five or more concert ticket package and get a discount of 20%.&nbsp\; Call the box office to inquire about our new group ticket prices and new Student Concert Ticket Price (student ID required) at 706 632 -9223 or purchase tickets online at www.BlueRidgeCommunityTheater.com. All performances begin at 7:30 PM.&nbsp\; Live Music Is Better concert series is sponsored by the Blue Ridge Community Theater\, Inc. a 501- (c) 3 volunteer based non-profit corporation committed to bringing excellent performing arts entertainment to the North Georgia communities. For more information about Main Stage productions\, Sunny D Children?s Theater or the music concert series go to www.BlueRidgeCommunityTheater.com. Theater is located at 2591 East First Street . &nbsp\;
LOCATION:Blue Ridge Community Theater 2591 East First Street Blue Ridge\, GA
UID:e.256.23652
SEQUENCE:3
DTSTAMP:20260424T133534Z
URL:https://members.visitblairsvillega.com/events/details/michelle-malone-in-concert-05-03-2014-23652
END:VEVENT

END:VCALENDAR
