BEGIN:VCALENDAR
VERSION:2.0
PRODID:-//ChamberMaster//Event Calendar 2.0//EN
METHOD:PUBLISH
X-PUBLISHED-TTL:P3D
REFRESH-INTERVAL:P3D
CALSCALE:GREGORIAN
BEGIN:VEVENT
DTSTART:20151208T200000Z
DTEND:20151208T210000Z
X-MICROSOFT-CDO-ALLDAYEVENT:FALSE
SUMMARY:Miles of Memories "Caring for the Caregiver"
DESCRIPTION:Brasstown Manor hosts a caregiver support group on the 2nd Tuesday of every month at 3:00pm. This group is led by Elena Watts with CareSouth and is open to anyone who wishes to come. This group is very helpful and informative for anyone who is in a position where they are taking care of someone else. This group was a great asset for our community in the past and we are excited to be offering it again.
X-ALT-DESC;FMTTYPE=text/html:Brasstown Manor hosts a caregiver support group on the 2nd Tuesday of every month at 3:00pm. This group is led by Elena Watts with CareSouth and is open to anyone who wishes to come. This group is very helpful and informative for anyone who is in a position where they are taking care of someone else. This group was a great asset for our community in the past and we are excited to be offering it again.
LOCATION:Brasstown Manor Retirement Community 108 Church St Hiawassee\, GA
UID:e.256.39870
SEQUENCE:3
DTSTAMP:20260421T074742Z
URL:https://members.visitblairsvillega.com/events/details/miles-of-memories-caring-for-the-caregiver-12-08-2015-39870
END:VEVENT

END:VCALENDAR
