BEGIN:VCALENDAR
VERSION:2.0
PRODID:-//ChamberMaster//Event Calendar 2.0//EN
METHOD:PUBLISH
X-PUBLISHED-TTL:P3D
REFRESH-INTERVAL:P3D
CALSCALE:GREGORIAN
BEGIN:VEVENT
DTSTART:20131207T190000Z
DTEND:20131207T210000Z
X-MICROSOFT-CDO-ALLDAYEVENT:FALSE
SUMMARY:Milk & Cookies with Santa
DESCRIPTION:Milk & Cookies with Santa\n\n	Saturday\, December 7th\n\n	2:00pm - 4:00pm\n\n	\n\n	Join Santa at Fun World for Milk & Cookies\n\n	Complimentary Pictures\n\n	\n\n	Discounts on Time Play\n\n	ALL DAY
X-ALT-DESC;FMTTYPE=text/html:<div style="text-align: center\;">\n	<span style="color: rgb(255\, 0\, 0)\;"><span style="font-size: 14px\;"><strong>Milk &amp\; Cookies with Santa<br />\n	Saturday\, December 7th<br />\n	2:00pm - 4:00pm</strong></span><br />\n	<br />\n	<span style="font-size: 14px\;">Join Santa at Fun World for Milk &amp\; Cookies<br />\n	Complimentary Pictures<br />\n	<br />\n	Discounts on Time Play<br />\n	ALL DAY</span></span></div>\n
LOCATION:Fun World 1159 Jack Dayton Young Harris\, GA
UID:e.256.20569
SEQUENCE:3
DTSTAMP:20260424T212401Z
URL:https://members.visitblairsvillega.com/events/details/milk-cookies-with-santa-12-07-2013-20569
END:VEVENT

END:VCALENDAR
