BEGIN:VCALENDAR
VERSION:2.0
PRODID:-//ChamberMaster//Event Calendar 2.0//EN
METHOD:PUBLISH
X-PUBLISHED-TTL:P3D
REFRESH-INTERVAL:P3D
CALSCALE:GREGORIAN
BEGIN:VEVENT
DTSTART:20150704T173000Z
DTEND:20150704T190000Z
X-MICROSOFT-CDO-ALLDAYEVENT:FALSE
SUMMARY:Misty Mountain Model Railroad 1:30PM Tour
DESCRIPTION:America's largest\, privately-owned O-guage Train Display with 14 Lionel trains traveling over a mile of track through a 4\,000 square foot fantasy layout of Southern Appalachia. America's largest\, privately-owned O-guage Train Display with 14 Lionel trains traveling over a mile of track through a 4\,000 square foot fantasy layout of Southern Appalachia.\n\nTours are promptly at 1:30p.m. Monday\, Wednesday\, Friday\, Saturday\n\n1:45 - Tour of Train Collection\n\n2:00 - MM Model Train Overview\n\n2:30 - Tour of Train Layout\n\n\n\nChildren - Free\n\nAdults - $5.00
X-ALT-DESC;FMTTYPE=text/html:America&#39\;s largest\, privately-owned O-guage Train Display with 14 Lionel trains traveling over a mile of track through a 4\,000 square foot fantasy layout of Southern Appalachia. America&#39\;s largest\, privately-owned O-guage Train Display with 14 Lionel trains traveling over a mile of track through a 4\,000 square foot fantasy layout of Southern Appalachia.<br />\n<strong>Tours are promptly at 1:30p.m. Monday\, Wednesday\, Friday\, Saturday<br />\n1:45 - Tour of Train Collection<br />\n2:00 - MM Model Train Overview<br />\n2:30 - Tour of Train Layout<br />\n<br />\nChildren - Free<br />\nAdults - $5.00</strong><br />\n&nbsp\;
LOCATION:Misty Mountain Model Railroad 16 Misty Mountain Lane off Town Creek School Road Blairsville\, GA
UID:e.256.28413
SEQUENCE:3
DTSTAMP:20260423T151422Z
URL:https://members.visitblairsvillega.com/events/details/misty-mountain-model-railroad-1-30pm-tour-07-04-2015-28413
END:VEVENT

END:VCALENDAR
