BEGIN:VCALENDAR
VERSION:2.0
PRODID:-//ChamberMaster//Event Calendar 2.0//EN
METHOD:PUBLISH
X-PUBLISHED-TTL:P3D
REFRESH-INTERVAL:P3D
CALSCALE:GREGORIAN
BEGIN:VEVENT
DTSTART:20140823T200000Z
DTEND:20140823T213000Z
X-MICROSOFT-CDO-ALLDAYEVENT:FALSE
SUMMARY:Misty Mountain Model Railroad Tour
DESCRIPTION:America's largest\, privately-owned O-guage Train Display with 14 Lionel trains traveling over a mile of track through a 4\,000 square foot fantasy layout of Southern Appalachia. America's largest\, privately-owned O-guage Train Display with 14 Lionel trains traveling over a mile of track through a 4\,000 square foot fantasy layout of Southern Appalachia.\n\nTours are promptly at 4:00p.m. Saturdays\n\n- Tour of Train Collection\n\n- MM Model Train Overview\n\n- Tour of Train Layout
X-ALT-DESC;FMTTYPE=text/html:America&#39\;s largest\, privately-owned O-guage Train Display with 14 Lionel trains traveling over a mile of track through a 4\,000 square foot fantasy layout of Southern Appalachia. America&#39\;s largest\, privately-owned O-guage Train Display with 14 Lionel trains traveling over a mile of track through a 4\,000 square foot fantasy layout of Southern Appalachia.<br />\n<strong>Tours are promptly at 4:00p.m. Saturdays<br />\n- Tour of Train Collection<br />\n- MM Model Train Overview<br />\n- Tour of Train Layout</strong><br />\n<br />\n<br />\n&nbsp\;
LOCATION:Misty Mountain Model Railroad 16 Misty Mountain Lane off Town Creek School Road Blairsville\, GA
UID:e.256.25592
SEQUENCE:3
DTSTAMP:20260424T073807Z
URL:https://members.visitblairsvillega.com/events/details/misty-mountain-model-railroad-tour-08-23-2014-25592
END:VEVENT

END:VCALENDAR
