BEGIN:VCALENDAR
VERSION:2.0
PRODID:-//ChamberMaster//Event Calendar 2.0//EN
METHOD:PUBLISH
X-PUBLISHED-TTL:P3D
REFRESH-INTERVAL:P3D
CALSCALE:GREGORIAN
BEGIN:VEVENT
DTSTART:20151027T163000Z
DTEND:20151027T183000Z
X-MICROSOFT-CDO-ALLDAYEVENT:FALSE
SUMMARY:Misty Mountain Quilters Guild
DESCRIPTION:The monthly meetings of the Misty Mountain Quilters' Guild are on the fourth Tuesday of each month in the Blairsville United Methodist Church fellowship hall. Social time is 12:30\, with the meeting starting at 1:00.  See the website for programs and other announcements.  Visitors are welcome. www.mistymountainquiltguild.org
X-ALT-DESC;FMTTYPE=text/html:<span style="font-size: 14pt\;"><span style="font-family: calibri\;">The monthly meetings of the Misty Mountain Quilters&#39\; Guild are on the fourth Tuesday of each month in the Blairsville United Methodist Church fellowship hall. Social time is 12:30\, with the meeting starting at 1:00.&nbsp\; See the website for programs and other announcements.&nbsp\; Visitors are welcome. www.mistymountainquiltguild.org</span></span><br />\n&nbsp\;
LOCATION:Blairsville United Methodist Church fellowship hall
UID:e.256.44236
SEQUENCE:3
DTSTAMP:20260423T102632Z
URL:https://members.visitblairsvillega.com/events/details/misty-mountain-quilters-guild-10-27-2015-44236
END:VEVENT

END:VCALENDAR
