BEGIN:VCALENDAR
VERSION:2.0
PRODID:-//ChamberMaster//Event Calendar 2.0//EN
METHOD:PUBLISH
X-PUBLISHED-TTL:P3D
REFRESH-INTERVAL:P3D
CALSCALE:GREGORIAN
BEGIN:VEVENT
DTSTART:20170328T163000Z
DTEND:20170328T190000Z
X-MICROSOFT-CDO-ALLDAYEVENT:FALSE
SUMMARY:MISTY MOUNTAIN QUILTERS' GUILD MONTHLY MEETING
DESCRIPTION:Monthly meeting of Misty Mountain Quilters' Guild.  Join us to learn more about quilting\, to hear interesting speakers\, and make new friends.   It is the mission of our guild to educate\, share\, promote and keep alive the art and traditions of quiltmaking. (We do not have a Guild Meeting in December)
X-ALT-DESC;FMTTYPE=text/html:Monthly meeting of Misty Mountain Quilters&#39\; Guild.&nbsp\; Join us to learn more about quilting\, to hear interesting speakers\, and make new friends.&nbsp\;&nbsp\; <span style="background-color:transparent\; font-family:verdana\,sans-serif">It is the mission of our guild to educate\, share\, promote and keep alive the art and traditions of quiltmaking. (We do not have a Guild Meeting in December)</span>
LOCATION:First United Methodist Church of Union County\, 938 GA Hwy-515\, Blairsville\, GA. Meeting in the Fellowship Hall.
UID:e.256.57732
SEQUENCE:3
DTSTAMP:20260420T060250Z
URL:https://members.visitblairsvillega.com/events/details/misty-mountain-quilters-guild-monthly-meeting-03-28-2017-57732
END:VEVENT

END:VCALENDAR
