BEGIN:VCALENDAR
VERSION:2.0
PRODID:-//ChamberMaster//Event Calendar 2.0//EN
METHOD:PUBLISH
X-PUBLISHED-TTL:P3D
REFRESH-INTERVAL:P3D
CALSCALE:GREGORIAN
BEGIN:VEVENT
DTSTART:20131228T183000Z
DTEND:20131228T200000Z
X-MICROSOFT-CDO-ALLDAYEVENT:FALSE
SUMMARY:Misty Mountain Railroad Monday 1:30PM Tour
DESCRIPTION:America's largest\, privately-owned O-guage Train Display with 14 Lionel trains traveling over a mile of track through tunnels and over bridges and trestles on a 4\,000 square foot layout of Southern Appalachia. The fantasty journey includes scaled historic buildings from Atlanta\, Blairsville\, Dahlonega\, and Gainesville in Georgia\; Biltmore in Asheville\, NC and Cooperhill\, TN\n\n	\n\n	PROMPTLY AT 1:30pm
X-ALT-DESC;FMTTYPE=text/html:<div>\n	America&rsquo\;s largest\, privately-owned O-guage Train Display with 14 Lionel trains traveling over a mile of track&nbsp\;through tunnels and&nbsp\;over bridges&nbsp\;and trestles on&nbsp\;a 4\,000 square foot&nbsp\;layout of Southern Appalachia.&nbsp\;The fantasty&nbsp\;journey includes scaled&nbsp\;historic buildings from Atlanta\, Blairsville\, Dahlonega\, and Gainesville in Georgia\;&nbsp\;Biltmore in Asheville\,&nbsp\;NC and Cooperhill\, TN<br />\n	<br />\n	PROMPTLY AT 1:30pm</div>\n<div>\n	&nbsp\;</div>\n<div>\n	&nbsp\;&nbsp\;</div>\n
LOCATION:16 Misty Mountain Lane off Town Creek School Road Blairsville\, GA
UID:e.256.20055
SEQUENCE:3
DTSTAMP:20260424T194413Z
URL:https://members.visitblairsvillega.com/events/details/misty-mountain-railroad-monday-1-30pm-tour-12-28-2013-20055
END:VEVENT

END:VCALENDAR
