BEGIN:VCALENDAR
VERSION:2.0
PRODID:-//ChamberMaster//Event Calendar 2.0//EN
METHOD:PUBLISH
X-PUBLISHED-TTL:P3D
REFRESH-INTERVAL:P3D
CALSCALE:GREGORIAN
BEGIN:VEVENT
DTSTART:20131230T183000Z
DTEND:20131230T200000Z
X-MICROSOFT-CDO-ALLDAYEVENT:FALSE
SUMMARY:Misty Mountain Railroad Monday 1:30PM Tour
DESCRIPTION:America's largest\, privately-owned O-guage Train Display with 14 Lionel trains traveling over a mile of track through a 4\,000 square foot fantasy layout of Southern Appalachia. America's largest\, privately-owned O-guage Train Display with 14 Lionel trains traveling over a mile of track through a 4\,000 square foot fantasy layout of Southern Appalachia.\n\n	 \n\n	Tours are promptly at 1:30p.m.
X-ALT-DESC;FMTTYPE=text/html:<div>\n	America&rsquo\;s largest\, privately-owned O-guage Train Display with 14 Lionel trains traveling over a mile of track through a 4\,000 square foot fantasy layout of Southern Appalachia. America&rsquo\;s largest\, privately-owned O-guage Train Display with 14 Lionel trains traveling over a mile of track through a 4\,000 square foot fantasy layout of Southern Appalachia.</div>\n<div>\n	&nbsp\;</div>\n<div>\n	<u><strong>Tours&nbsp\;are promptly at 1:30p.m. </strong></u></div>\n
LOCATION:16 Misty Mountain Lane off Town Creek School Road Blairsville\, GA
UID:e.256.19679
SEQUENCE:3
DTSTAMP:20260424T194442Z
URL:https://members.visitblairsvillega.com/events/details/misty-mountain-railroad-monday-1-30pm-tour-12-30-2013-19679
END:VEVENT

END:VCALENDAR
