BEGIN:VCALENDAR
VERSION:2.0
PRODID:-//ChamberMaster//Event Calendar 2.0//EN
METHOD:PUBLISH
X-PUBLISHED-TTL:P3D
REFRESH-INTERVAL:P3D
CALSCALE:GREGORIAN
BEGIN:VEVENT
DTSTART:20151219T150000Z
DTEND:20151219T190000Z
X-MICROSOFT-CDO-ALLDAYEVENT:FALSE
SUMMARY:Model Railroad Christmas Open House
DESCRIPTION:Tri-State Model Railroaders will hold its Annual Christmas Open House at the Historic Mineral Bluff Depot. Join them for  look at their 22x37 ft HO scale model railroad depicting  tri-state railroading in the early 1950's.
X-ALT-DESC;FMTTYPE=text/html:<span style="color: black\; font-family: &quot\;Helvetica&quot\;\,&quot\;sans-serif&quot\;\; font-size: 9.5pt\; mso-fareast-font-family: &quot\;Times New Roman&quot\;\; mso-ansi-language: EN-US\; mso-fareast-language: EN-US\; mso-bidi-language: AR-SA\;">Tri-State Model Railroaders will hold its Annual Christmas Open House at the Historic Mineral Bluff Depot. Join them for&nbsp\; look at their 22x37 ft HO scale model railroad depicting&nbsp\; tri-state railroading in the early 1950&#39\;s.</span>
LOCATION:at the depot 150 Railroad Avenue\, Mineral Bluff\, GA.
UID:e.256.45158
SEQUENCE:3
DTSTAMP:20260421T074218Z
URL:https://members.visitblairsvillega.com/events/details/model-railroad-christmas-open-house-12-19-2015-45158
END:VEVENT

END:VCALENDAR
