BEGIN:VCALENDAR
VERSION:2.0
PRODID:-//ChamberMaster//Event Calendar 2.0//EN
METHOD:PUBLISH
X-PUBLISHED-TTL:P3D
REFRESH-INTERVAL:P3D
CALSCALE:GREGORIAN
BEGIN:VEVENT
DTSTART:20160220T150000Z
DTEND:20160220T190000Z
X-MICROSOFT-CDO-ALLDAYEVENT:FALSE
SUMMARY:Model Railroaders February Open House
DESCRIPTION:Visit the beautifully restored Historic Mineral Bluff Depot at 150 Railroad Avenue\, Mineral Bluff\, Georgia\, between 10:00am and 2:00pm Saturday\, February 20th. This building was constructed over 100 years ago with locally made brick and is the oldest public building remaining in Fannin County. In addition to the opportunity to view and inspect this building close up\, you will also be able to observe the progress being made by Tri-State Model Railroaders on their large "HO" Scale model railroad representing the Louisville & Nashville Railroad's "Hook and Eye" Old Line running from Marietta\, Ga through Ellijay\, Blue Ridge and McCaysville/Copperhill to Etowah\, TN and the branch line to Murphy\, NC. Enjoy history\, model railroading\, and great conversation about this Tri-State Region's railroading history. For further information call 828-361-2210. See their Website at www.tsmri.org and CLICK on the Calendar tab for a schedule of activities for the year.
X-ALT-DESC;FMTTYPE=text/html:<span style="font-size: 9.5pt\;"><span style="font-family: helvetica\,sans-serif\;"><span style="color: black\;">Visit the beautifully restored Historic Mineral Bluff Depot at 150 Railroad Avenue\, Mineral Bluff\, Georgia\, between 10:00am and 2:00pm Saturday\, February 20th. This building was constructed over 100 years ago with locally made brick and is the oldest public building remaining in Fannin County. In addition to the opportunity to view and inspect this building close up\, you will also be able to observe the progress being made by Tri-State Model Railroaders on their large &ldquo\;HO&rdquo\; Scale model railroad representing the Louisville &amp\; Nashville Railroad&rsquo\;s &ldquo\;Hook and Eye&rdquo\; Old Line running from Marietta\, Ga through Ellijay\, Blue Ridge and McCaysville/Copperhill to Etowah\, TN and the branch line to Murphy\, NC. Enjoy history\, model railroading\, and great conversation about this Tri-State Region&rsquo\;s railroading history. For further information call 828-361-2210. See their Website at <a href="http://www.tsmri.org/" id="yui_3_16_0_1_1454509238052_2844"><span style="color: rgb(0\, 0\, 255)\;">www.tsmri.org</span></a> and <em id="yui_3_16_0_1_1454509238052_3546">CLICK </em>on the Calendar tab for a schedule of activities for the year.</span></span></span><br />\n&nbsp\;<br />\n&nbsp\;
LOCATION:Mineral Bluff Depot 150 Railroad Avenue Mineral Bluff\, Georgia
UID:e.256.49432
SEQUENCE:3
DTSTAMP:20260421T040309Z
URL:https://members.visitblairsvillega.com/events/details/model-railroaders-february-open-house-02-20-2016-49432
END:VEVENT

END:VCALENDAR
