BEGIN:VCALENDAR
VERSION:2.0
PRODID:-//ChamberMaster//Event Calendar 2.0//EN
METHOD:PUBLISH
X-PUBLISHED-TTL:P3D
REFRESH-INTERVAL:P3D
CALSCALE:GREGORIAN
BEGIN:VEVENT
DTSTART:20140711T223000Z
DTEND:20140711T223000Z
X-MICROSOFT-CDO-ALLDAYEVENT:FALSE
SUMMARY:Monet's Cafe - formerly Antionietta's presents Live Music every weekend
DESCRIPTION:Monets Cafe-formerly Antoniettas's\n\nMonet's Cafe - Now serving beer and wine - Live music every weekend - Come join the fun! \n\nCome out and enjoy an evening of great food! and listen to "Local Boys" Ethan Walker and Keaton Wheeler perform.\n\nDifferent musicians weekly.
X-ALT-DESC;FMTTYPE=text/html:<span itemprop="name">Monets Cafe-formerly Antoniettas&#39\;s</span><br />\n<span class="style1"><font color="#ff0000">Monet&#39\;s Cafe - Now serving beer and wine - Live music every weekend - Come join the fun! </font></span><br />\nCome out and enjoy an evening of great food! and listen to &quot\;Local Boys&quot\; Ethan Walker and Keaton Wheeler perform.<br />\nDifferent musicians weekly.
LOCATION:Monet's Cafe 130 Blue Ridge Street Blairsville\, Georgia 30512
UID:e.256.24754
SEQUENCE:3
DTSTAMP:20260424T092414Z
URL:https://members.visitblairsvillega.com/events/details/monet-s-cafe-formerly-antionietta-s-presents-live-music-every-weekend-07-11-2014-24754
END:VEVENT

END:VCALENDAR
