BEGIN:VCALENDAR
VERSION:2.0
PRODID:-//ChamberMaster//Event Calendar 2.0//EN
METHOD:PUBLISH
X-PUBLISHED-TTL:P3D
REFRESH-INTERVAL:P3D
CALSCALE:GREGORIAN
BEGIN:VEVENT
DTSTART:20150530T150000Z
DTEND:20150530T190000Z
X-MICROSOFT-CDO-ALLDAYEVENT:FALSE
SUMMARY:Monet's Throwback Lunch
DESCRIPTION:Remember when you could get lunch for just a few bucks? Well now you can with Monet's Throwback menu. Meals from $5.50 - $8.29.\n\nAs always\, you can also order from their regular menu.
X-ALT-DESC;FMTTYPE=text/html:Remember when you could get lunch for just a few bucks? Well now you can with Monet&#39\;s Throwback menu. Meals from $5.50 - $8.29.<br />\nAs always\, you can also order from their regular menu.
LOCATION:Monet's Italian Grille 130 Blue Ridge St.
UID:e.256.40209
SEQUENCE:3
DTSTAMP:20260423T182012Z
URL:https://members.visitblairsvillega.com/events/details/monet-s-throwback-lunch-05-30-2015-40209
END:VEVENT

END:VCALENDAR
