BEGIN:VCALENDAR
VERSION:2.0
PRODID:-//ChamberMaster//Event Calendar 2.0//EN
METHOD:PUBLISH
X-PUBLISHED-TTL:P3D
REFRESH-INTERVAL:P3D
CALSCALE:GREGORIAN
BEGIN:VEVENT
DTSTART:20150604T150000Z
DTEND:20150605T003000Z
X-MICROSOFT-CDO-ALLDAYEVENT:FALSE
SUMMARY:Monet's Throwback Thursday
DESCRIPTION:Remember when you could get lunch or dinner for just a few bucks? Well now you can with Throwback Thursday menu at Monet's. Meals from $5.50 - $8.29.\n\nAs always\, you can also order from their regular menu.
X-ALT-DESC;FMTTYPE=text/html:Remember when you could get lunch or dinner for just a few bucks? Well now you can with Throwback Thursday menu at Monet&#39\;s. Meals from $5.50 - $8.29.<br />\nAs always\, you can also order from their regular menu.
LOCATION:Monet's Italian Grille 130 Blue Ridge St.
UID:e.256.40193
SEQUENCE:3
DTSTAMP:20260423T182012Z
URL:https://members.visitblairsvillega.com/events/details/monet-s-throwback-thursday-06-04-2015-40193
END:VEVENT

END:VCALENDAR
