BEGIN:VCALENDAR
VERSION:2.0
PRODID:-//ChamberMaster//Event Calendar 2.0//EN
METHOD:PUBLISH
X-PUBLISHED-TTL:P3D
REFRESH-INTERVAL:P3D
CALSCALE:GREGORIAN
BEGIN:VEVENT
DTSTART:20160827T000000Z
DTEND:20160827T020000Z
X-MICROSOFT-CDO-ALLDAYEVENT:FALSE
SUMMARY:Moons: Worlds of Mystery
DESCRIPTION:Young Harris College's O. Wayne Rollins Planetarium will kick off an exciting season lineup of shows at 8 p.m. Narrated by actor Ed Helms\, "Moons: Worlds of Mystery" goes on a journey through our solar system to explore the remarkable diversity of moons. Follow in the footsteps of astronauts to our own Moon\, then venture beyond to explore unfamiliar and exotic worlds.\n\nFrom volcanoes and geysers to ice-covered oceans and methane rain\, these natural satellites have truly spectacular features. Learn what these celestial bodies reveal about the history and workings of our solar system and return home with a newfound wonder about the cosmos in which we live. \n\nO. Wayne Rollins Planetarium features a state-of-the-art GOTO Chronos Space Simulator star projector with a full-dome digital projection system\, the Sky- Skan Definiti\, in a 40-foot dome theater with 5.1 surround sound. With comfortable seating for 104\, Rollins Planetarium offers public shows and educational opportunities for school groups throughout the year. Rollins Planetarium is located in the Maxwell Center on the YHC campus.
X-ALT-DESC;FMTTYPE=text/html:<span style="font-size: 10pt\;"><span style="font-family: arial\,sans-serif\;">Young Harris College&rsquo\;s O. Wayne Rollins Planetarium will kick off an exciting season lineup of shows at 8 p.m.&nbsp\;</span></span><span style="font-size: 10pt\;"><span style="font-family: arial\,sans-serif\;">Narrated by actor Ed Helms\, &ldquo\;Moons: Worlds of Mystery&rdquo\; goes on a journey through our solar system to explore the remarkable diversity of moons. Follow in the footsteps of astronauts to our own Moon\, then venture beyond to explore unfamiliar and exotic worlds.</span></span><br />\n<span style="font-size: 10pt\;"><span style="font-family: arial\,sans-serif\;">From volcanoes and geysers to ice-covered oceans and methane rain\, these natural satellites have truly spectacular features. Learn what these celestial bodies reveal about the history and workings of our solar system and return home with a newfound wonder about the cosmos in which we live. </span></span><br />\n<span style="font-size: 10pt\;"><span style="font-family: arial\,sans-serif\;">O. Wayne Rollins Planetarium features a state-of-the-art GOTO Chronos Space Simulator star projector with a full-dome digital projection system\, the Sky- Skan Definiti\, in a 40-foot dome theater with 5.1 surround sound. With comfortable seating for 104\, Rollins Planetarium offers public shows and educational opportunities for school groups throughout the year. Rollins Planetarium is located in the Maxwell Center on the YHC campus.</span></span><br />\n<br />\n&nbsp\;
LOCATION:Young Harris College Rollins Planetarium (Maxwell Center) 1 College Street Young Harris\, GA 30582
UID:e.256.55543
SEQUENCE:3
DTSTAMP:20260420T164821Z
URL:https://members.visitblairsvillega.com/events/details/moons-worlds-of-mystery-08-26-2016-55543
END:VEVENT

END:VCALENDAR
