BEGIN:VCALENDAR
VERSION:2.0
PRODID:-//ChamberMaster//Event Calendar 2.0//EN
METHOD:PUBLISH
X-PUBLISHED-TTL:P3D
REFRESH-INTERVAL:P3D
CALSCALE:GREGORIAN
BEGIN:VEVENT
DTSTART:20160227T170000Z
DTEND:20160227T220000Z
X-MICROSOFT-CDO-ALLDAYEVENT:FALSE
SUMMARY:Moonshine Tour
DESCRIPTION:Come with ride from Blairsville to Dawsonville on\n\nfor an amazing moonshine tour where you will sample Bill Elliott's moonshine & brandy along with other moonshines. \n\n-Includes luxury round trip transportation\n\n-Tasting\n\n-Tour\n\n-Souvenir shot glass\n\n-One 750mL bottle of moonshine per couple
X-ALT-DESC;FMTTYPE=text/html:<span style="font-family:comic sans ms\;"><span style="color: rgb(20\, 24\, 35)\; font-size: 14px\; line-height: 19.32px\; background-color: rgb(255\, 255\, 255)\;">Come with ride from Blairsville to Dawsonville on<br />\nfor an amazing moonshine tour where you will sample Bill Elliott&#39\;s moonshine &amp\; brandy along with other moonshines.&nbsp\;</span><br style="color: rgb(20\, 24\, 35)\; font-family: helvetica\, arial\, sans-serif\; font-size: 14px\; line-height: 19.32px\; background-color: rgb(255\, 255\, 255)\;" />\n<span style="color: rgb(20\, 24\, 35)\; font-size: 14px\; line-height: 19.32px\; background-color: rgb(255\, 255\, 255)\;">-Includes luxury round trip transportation</span><br style="color: rgb(20\, 24\, 35)\; font-family: helvetica\, arial\, sans-serif\; font-size: 14px\; line-height: 19.32px\; background-color: rgb(255\, 255\, 255)\;" />\n<span style="color: rgb(20\, 24\, 35)\; font-size: 14px\; line-height: 19.32px\; background-color: rgb(255\, 255\, 255)\;">-Tasting</span><br style="color: rgb(20\, 24\, 35)\; font-family: helvetica\, arial\, sans-serif\; font-size: 14px\; line-height: 19.32px\; background-color: rgb(255\, 255\, 255)\;" />\n<span style="color: rgb(20\, 24\, 35)\; font-size: 14px\; line-height: 19.32px\; background-color: rgb(255\, 255\, 255)\;">-Tour</span><br />\n<span class="text_exposed_show" style="display: inline\; color: rgb(20\, 24\, 35)\; font-size: 14px\; line-height: 19.32px\; background-color: rgb(255\, 255\, 255)\;">-Souvenir shot glass<br />\n-One 750mL bottle of moonshine per couple</span></span>
LOCATION:Pick up at Blairsville Park & Ride
UID:e.256.49458
SEQUENCE:3
DTSTAMP:20260421T055601Z
URL:https://members.visitblairsvillega.com/events/details/moonshine-tour-02-27-2016-49458
END:VEVENT

END:VCALENDAR
