BEGIN:VCALENDAR
VERSION:2.0
PRODID:-//ChamberMaster//Event Calendar 2.0//EN
METHOD:PUBLISH
X-PUBLISHED-TTL:P3D
REFRESH-INTERVAL:P3D
CALSCALE:GREGORIAN
BEGIN:VEVENT
DTSTART:20140509T233000Z
DTEND:20140510T020000Z
X-MICROSOFT-CDO-ALLDAYEVENT:FALSE
SUMMARY:Moscow Festival Ballet
DESCRIPTION:The Moscow Festival Ballet was founded in 1989 when legendary principal dancer of the Bolshoi Ballet Sergei Radchenko sought to realize his vision of a company which would bring together the highest classical elements of the great Bolshoi and Kirov Ballet companies in an independent new company within the framework of Russian classic ballet.
X-ALT-DESC;FMTTYPE=text/html:The Moscow Festival Ballet was founded in 1989 when legendary principal dancer of the Bolshoi Ballet Sergei Radchenko sought to realize his vision of a company which would bring together the highest classical elements of the great Bolshoi and Kirov Ballet companies in an independent new company within the framework of Russian classic ballet.
LOCATION:Venue: The Smoky Mountain Center for the Performing Arts Mailing Address: Smoky Mountain Center for the Performing Arts 1028 Georgia Road Franklin\, NC 28734
UID:e.256.24244
SEQUENCE:3
DTSTAMP:20260424T122434Z
URL:https://members.visitblairsvillega.com/events/details/moscow-festival-ballet-05-09-2014-24244
END:VEVENT

END:VCALENDAR
