BEGIN:VCALENDAR
VERSION:2.0
PRODID:-//ChamberMaster//Event Calendar 2.0//EN
METHOD:PUBLISH
X-PUBLISHED-TTL:P3D
REFRESH-INTERVAL:P3D
CALSCALE:GREGORIAN
BEGIN:VEVENT
DTSTART:20170609T140000Z
DTEND:20170609T163000Z
X-MICROSOFT-CDO-ALLDAYEVENT:FALSE
SUMMARY:Mother Nature’s Bounty\; Lecture and Garden Tour
DESCRIPTION:Ila Hatter\, known as The Lady Of The Forest\, is an interpretive naturalist\, artist\, wild crafter and gourmet cook with more than 25 years' experience teaching the cultural heritage of native plants. Her mission is to tune people in to the many ways they can make Mother Nature's pantry and medicine cabinet their own. Explore nature's bounty with Ila during her one hour lecture. Then tour the Ethnobotanic Gardens for a closer look at our native plants with our volunteer Garden Guides. You must register for this event by calling 706-745-2655 after May 9.
X-ALT-DESC;FMTTYPE=text/html:Ila Hatter\, known as The Lady Of The Forest\, is an interpretive naturalist\, artist\, wild crafter and gourmet cook with more than 25 years&rsquo\; experience teaching the cultural heritage of native plants. Her mission is to tune people in to the many ways they can make Mother Nature&#39\;s pantry and medicine cabinet their own. Explore nature&#39\;s bounty with Ila during her one hour lecture. Then tour the Ethnobotanic Gardens for a closer look at our native plants with our volunteer Garden Guides. You must register for this event by calling 706-745-2655 after May 9.
LOCATION:The Cannery Interpretive Center and Ethnobotanic Garden on the grounds of the Georgia Mountain Research & Education Center\, 3 miles south of the Blairsville Square\, on the east side of Hwy 19/129.
UID:e.256.62214
SEQUENCE:3
DTSTAMP:20260419T233419Z
URL:https://members.visitblairsvillega.com/events/details/mother-nature-s-bounty-lecture-and-garden-tour-62214
END:VEVENT

END:VCALENDAR
