BEGIN:VCALENDAR
VERSION:2.0
PRODID:-//ChamberMaster//Event Calendar 2.0//EN
METHOD:PUBLISH
X-PUBLISHED-TTL:P3D
REFRESH-INTERVAL:P3D
CALSCALE:GREGORIAN
BEGIN:VEVENT
DTSTART:20160506T140000Z
DTEND:20160506T180000Z
X-MICROSOFT-CDO-ALLDAYEVENT:FALSE
SUMMARY:Mother's Day Bake Sale
DESCRIPTION:Mother's Day Bake Sale\, by Friends of Union County Library\n\n\n\nCome by the Community Room for a yummy selection of treats to celebrate Mother's Day  We'll have cakes\, cupcakes\, pies\, brownies\, cookies\, candy\, tea breads and who knows what else! Keep your mom out of the kitchen and provide the sweets yourself! WE LOVE YOU\, MOM.
X-ALT-DESC;FMTTYPE=text/html:<span style="font-size: 14px\;"><span style="font-family: comic sans ms\;">Mother&#39\;s Day Bake Sale\, by Friends of Union County Library<br />\n<br />\nCome by the Community Room for a yummy selection of treats to celebrate Mother&#39\;s Day&nbsp\; We&#39\;ll have cakes\, cupcakes\, pies\, brownies\, cookies\, candy\, tea breads and who knows what else! Keep your mom out of the kitchen and provide the sweets yourself! WE LOVE YOU\, MOM.</span></span>
LOCATION:Union County Library 303 Hunt-Martin St.
UID:e.256.50969
SEQUENCE:3
DTSTAMP:20260421T002517Z
URL:https://members.visitblairsvillega.com/events/details/mother-s-day-bake-sale-05-06-2016-50969
END:VEVENT

END:VCALENDAR
