BEGIN:VCALENDAR
VERSION:2.0
PRODID:-//ChamberMaster//Event Calendar 2.0//EN
METHOD:PUBLISH
X-PUBLISHED-TTL:P3D
REFRESH-INTERVAL:P3D
CALSCALE:GREGORIAN
BEGIN:VEVENT
DTSTART:20160508T153000Z
DTEND:20160508T190000Z
X-MICROSOFT-CDO-ALLDAYEVENT:FALSE
SUMMARY:Mother's Day Brunch
DESCRIPTION:Treat Mom to a special Mother's Day Brunch at Brasstown Valley Resort & Spa located in Young Harris. Reservations are strongly recommended. And can be made by calling 706-379-4617 Visit the web site @ www.brasstownvalley.com for more information
X-ALT-DESC;FMTTYPE=text/html:Treat Mom to a special Mother&#39\;s Day Brunch at Brasstown Valley Resort &amp\; Spa located in Young Harris. Reservations are strongly recommended. And can be made by calling 706-379-4617 Visit the web site @ www.brasstownvalley.com for more information
LOCATION:Brasstown Valley Resort & Spa
UID:e.256.50636
SEQUENCE:3
DTSTAMP:20260420T222617Z
URL:https://members.visitblairsvillega.com/events/details/mother-s-day-brunch-05-08-2016-50636
END:VEVENT

END:VCALENDAR
