BEGIN:VCALENDAR
VERSION:2.0
PRODID:-//ChamberMaster//Event Calendar 2.0//EN
METHOD:PUBLISH
X-PUBLISHED-TTL:P3D
REFRESH-INTERVAL:P3D
CALSCALE:GREGORIAN
BEGIN:VEVENT
DTSTART:20150510T153000Z
DTEND:20150510T190000Z
X-MICROSOFT-CDO-ALLDAYEVENT:FALSE
SUMMARY:Mother's Day Brunch
DESCRIPTION:Mothers Day Brunch Sunday May 10th from 11:30am - 3pm Brasstown Valley Resort in Young Harris Reservations are suggested please call: 706-379-4617 Join us at Brasstown Valley Resort as our Culinary Team presents their Annual Mother's Day Brunch A copy of the menu can be found on our web site at www.brasstownvalley.com
X-ALT-DESC;FMTTYPE=text/html:Mothers Day Brunch Sunday May 10th from 11:30am - 3pm Brasstown Valley Resort in Young Harris Reservations are suggested please call: 706-379-4617 Join us at Brasstown Valley Resort as our Culinary Team presents their Annual Mother&#39\;s Day Brunch A copy of the menu can be found on our web site at www.brasstownvalley.com
LOCATION:Brasstown Valley Resort\, Young Harris
UID:e.256.37691
SEQUENCE:3
DTSTAMP:20260423T182235Z
URL:https://members.visitblairsvillega.com/events/details/mother-s-day-brunch-05-10-2015-37691
END:VEVENT

END:VCALENDAR
