BEGIN:VCALENDAR
VERSION:2.0
PRODID:-//ChamberMaster//Event Calendar 2.0//EN
METHOD:PUBLISH
X-PUBLISHED-TTL:P3D
REFRESH-INTERVAL:P3D
CALSCALE:GREGORIAN
BEGIN:VEVENT
DTSTART:20170514T160000Z
DTEND:20170514T220000Z
X-MICROSOFT-CDO-ALLDAYEVENT:FALSE
SUMMARY:Mother's Day Special at Dan's Grill
DESCRIPTION:We will be having a special Mother's Day menu- and they are currently taking reservations.
X-ALT-DESC;FMTTYPE=text/html:We will be having a special Mother&rsquo\;s Day menu- and they are currently taking reservations.<br />\n&nbsp\;
LOCATION:Dan's Grill\, Murphy Hwy\, Blairsville GA
UID:e.256.73807
SEQUENCE:3
DTSTAMP:20260420T010149Z
URL:https://members.visitblairsvillega.com/events/details/mother-s-day-special-at-dan-s-grill-73807
END:VEVENT

END:VCALENDAR
