BEGIN:VCALENDAR
VERSION:2.0
PRODID:-//ChamberMaster//Event Calendar 2.0//EN
METHOD:PUBLISH
X-PUBLISHED-TTL:P3D
REFRESH-INTERVAL:P3D
CALSCALE:GREGORIAN
BEGIN:VEVENT
DTSTART:20140511T150000Z
DTEND:20140511T193000Z
X-MICROSOFT-CDO-ALLDAYEVENT:FALSE
SUMMARY:Mother's Day Special at Ollie's Grill & Smokehouse
DESCRIPTION:MOTHER'S DAY SPECIAL\n\nMay 11\, 2014: 11:00 AM   3:30 PM\n\n$12.95 - $16.95 Special Rate children  10\n\n \n\nChoose an Entr e\n\nWild-Caught USA Grouper    Roasted Turkey    \n\nAngus Prime Rib       Homemade Lasagna\n\n \n\nIncludes Fresh Salad\, Rolls\, Sides Served Family-Style\n\nBrownie for dessert is inlcuded\n\nOther Desserts may be ordered from our Dessert Menu\n\n\n\nOLLIE'S GRILL & SMOKEHOUSE\n\n94 TOWN SQUARE\, BLAIRSVILLE\, GA   706-745-0525\n\nReservations may be made by calling 706-745-0525
X-ALT-DESC;FMTTYPE=text/html:<br />\n<strong id="yiv7189329484yui_3_13_0_1_1399311277516_5311"><span style="font-size: 14pt\;"><span style="font-family: helvetica\,sans-serif\;"><span style="color: black\;">MOTHER&rsquo\;S DAY SPECIAL</span></span></span></strong><br />\n<span style="font-size: 10pt\;"><span style="font-family: lucida handwriting\;"><span style="color: black\;">May 11\, 2014: 11:00 AM &ndash\; 3:30 PM</span></span></span><br />\n<span style="font-size: medium\;"><span style="font-family: lucida handwriting\;"><span style="color: black\;">$12.95 - $16.95 Special Rate children </span></span></span>&lt\;<span style="font-size: medium\;"><span style="font-family: lucida handwriting\;"><span style="color: black\;">10</span></span></span><br />\n&nbsp\;<br />\n<span style="font-size: medium\;"><span style="font-family: lucida handwriting\;"><span style="color: black\;">Choose an Entr&eacute\;e</span></span></span><br />\n<span style="font-size: medium\;"><span style="font-family: lucida handwriting\;"><span style="color: black\;">Wild-Caught USA Grouper&nbsp\;&nbsp\;&nbsp\; Roasted Turkey&nbsp\;&nbsp\;&nbsp\; </span></span></span><br />\n<span style="font-size: medium\;"><span style="font-family: lucida handwriting\;"><span style="color: black\;">Angus Prime Rib&nbsp\;&nbsp\;&nbsp\;&nbsp\;&nbsp\;&nbsp\; Homemade Lasagna</span></span></span><br />\n&nbsp\;<br />\n<span style="font-size: medium\;"><span style="font-family: lucida handwriting\;"><span style="color: black\;">Includes Fresh Salad\, Rolls\, Sides Served Family-Style</span></span></span><br />\n<span style="font-size: 10pt\;"><span style="font-family: lucida handwriting\;"><span style="color: black\;">Brownie for dessert is inlcuded</span></span></span><br />\n<span style="font-size: 10pt\;"><span style="font-family: lucida handwriting\;"><span style="color: black\;">Other Desserts may be ordered from our Dessert Menu</span></span></span><br />\n<br />\n<strong><span style="font-size: 14pt\;"><span style="font-family: helvetica\,sans-serif\;"><span style="color: black\;">OLLIE&rsquo\;S GRILL &amp\; SMOKEHOUSE</span></span></span></strong><br />\n<em id="yiv7189329484yui_3_13_0_1_1399311277516_5314"><span style="font-size: 8pt\;"><span style="font-family: helvetica\,sans-serif\;"><span style="color: black\;">94 TOWN SQUARE\, BLAIRSVILLE\, GA &nbsp\;&nbsp\;706-745-0525</span></span></span></em><br />\n<span style="font-size: 10pt\;"><span style="font-family: helvetica\,sans-serif\;"><span style="color: black\;">Reservations may be made by calling 706-745-0525</span></span></span><br />\n<br />\n<br />\n&nbsp\;<br />\n<br />\n&nbsp\;
LOCATION:Ollie's Grill & Smokehouse 94 Town Square Blairsville\, GA
UID:e.256.24286
SEQUENCE:3
DTSTAMP:20260424T122905Z
URL:https://members.visitblairsvillega.com/events/details/mother-s-day-special-at-ollie-s-grill-smokehouse-05-11-2014-24286
END:VEVENT

END:VCALENDAR
