BEGIN:VCALENDAR
VERSION:2.0
PRODID:-//ChamberMaster//Event Calendar 2.0//EN
METHOD:PUBLISH
X-PUBLISHED-TTL:P3D
REFRESH-INTERVAL:P3D
CALSCALE:GREGORIAN
BEGIN:VEVENT
DTSTART:20140511T160000Z
DTEND:20140511T190000Z
X-MICROSOFT-CDO-ALLDAYEVENT:FALSE
SUMMARY:Mothers Day Brunch
DESCRIPTION:The Annual Mother's Day Brunch at Brasstown Valley Resort in Young Harris will start at 12 noon. Reservations are suggested as this is a very popular brunch. Reservations can be made by calling 706-379-4617 To view a copy of the menu for the brunch visit our web site at www.brasstownvalley.com or contact our dining room at 706-379-4617 There will be an Arts & Crafts show at the Resort this same weekend\, no Charge to attend the Show there is a charge for the Brunch
X-ALT-DESC;FMTTYPE=text/html:The Annual Mother&#39\;s Day Brunch at Brasstown Valley Resort in Young Harris will start at 12 noon. Reservations are suggested as this is a very popular brunch. Reservations can be made by calling 706-379-4617 To view a copy of the menu for the brunch visit our web site at www.brasstownvalley.com or contact our dining room at 706-379-4617 There will be an Arts &amp\; Crafts show at the Resort this same weekend\, no Charge to attend the Show there is a charge for the Brunch
LOCATION:Brasstown Valley Resort Young Harris\,GA
UID:e.256.24254
SEQUENCE:3
DTSTAMP:20260424T122239Z
URL:https://members.visitblairsvillega.com/events/details/mothers-day-brunch-05-11-2014-24254
END:VEVENT

END:VCALENDAR
