BEGIN:VCALENDAR
VERSION:2.0
PRODID:-//ChamberMaster//Event Calendar 2.0//EN
METHOD:PUBLISH
X-PUBLISHED-TTL:P3D
REFRESH-INTERVAL:P3D
CALSCALE:GREGORIAN
BEGIN:VEVENT
DTSTART:20140908T220000Z
DTEND:20140909T003000Z
X-MICROSOFT-CDO-ALLDAYEVENT:FALSE
SUMMARY:Mountain Community Chorus Auditions
DESCRIPTION:Mountain Community Chorus\, representing North GA\, Western NC\, and Eastern TN\, will hold auditions for its upcoming season on Monday\, Sept. 8th at 6:00 PM at the Clegg Recital Hall\, Young Harris College\, Young Harris\, GA. Tenors and Second Sopranos in great demand.
X-ALT-DESC;FMTTYPE=text/html:Mountain Community Chorus\, representing North GA\, Western NC\, and Eastern TN\, will hold auditions for its upcoming season on Monday\, Sept. 8th at 6:00 PM at the Clegg Recital Hall\, Young Harris College\, Young Harris\, GA. Tenors and Second Sopranos in great demand.
LOCATION:Clegg Recital Hall\, Young Harris College
UID:e.256.25584
SEQUENCE:3
DTSTAMP:20260424T061348Z
URL:https://members.visitblairsvillega.com/events/details/mountain-community-chorus-auditions-09-08-2014-25584
END:VEVENT

END:VCALENDAR
