BEGIN:VCALENDAR
VERSION:2.0
PRODID:-//ChamberMaster//Event Calendar 2.0//EN
METHOD:PUBLISH
X-PUBLISHED-TTL:P3D
REFRESH-INTERVAL:P3D
CALSCALE:GREGORIAN
BEGIN:VEVENT
DTSTART:20141206T000000Z
DTEND:20141206T013000Z
X-MICROSOFT-CDO-ALLDAYEVENT:FALSE
SUMMARY:Mountain Community Chorus Christmas Concert
DESCRIPTION:Mountain Community Chorus\, in combination with the Young Harris College Community Band will present its annual Christmas Concert Friday\, Dec. 5th at 7 PM and Sunday December 7th at 3 PM .
X-ALT-DESC;FMTTYPE=text/html:Mountain Community Chorus\, in combination with the Young Harris College Community Band will present its annual Christmas Concert Friday\, Dec. 5th at 7 PM and Sunday December 7th at 3 PM .
LOCATION:Hilda D. Glenn Auditorium Young Harris College Young Harris\, GA
UID:e.256.27834
SEQUENCE:3
DTSTAMP:20260424T020428Z
URL:https://members.visitblairsvillega.com/events/details/mountain-community-chorus-christmas-concert-12-05-2014-27834
END:VEVENT

END:VCALENDAR
