BEGIN:VCALENDAR
VERSION:2.0
PRODID:-//ChamberMaster//Event Calendar 2.0//EN
METHOD:PUBLISH
X-PUBLISHED-TTL:P3D
REFRESH-INTERVAL:P3D
CALSCALE:GREGORIAN
BEGIN:VEVENT
DTSTART:20131207T010000Z
DTEND:20131207T023000Z
X-MICROSOFT-CDO-ALLDAYEVENT:FALSE
SUMMARY:Mountain Community Chorus Christmas Concert
DESCRIPTION:Mountain Community Chorus\, directed by Laura Stooksbury\, will perform its annual Christmas Concerts Friday December 6th\, 8 PM and Sunday\, December 8th at 3 PM.
X-ALT-DESC;FMTTYPE=text/html:Mountain Community Chorus\, directed by Laura Stooksbury\, will perform its annual Christmas Concerts Friday December 6th\, 8 PM and Sunday\, December 8th at 3 PM.
LOCATION:Hilda D. Glenn Auditorium\, Young Harris College\, Young Harris\, GA
UID:e.256.20460
SEQUENCE:3
DTSTAMP:20260424T194414Z
URL:https://members.visitblairsvillega.com/events/details/mountain-community-chorus-christmas-concert-12-06-2013-20460
END:VEVENT

END:VCALENDAR
