BEGIN:VCALENDAR
VERSION:2.0
PRODID:-//ChamberMaster//Event Calendar 2.0//EN
METHOD:PUBLISH
X-PUBLISHED-TTL:P3D
REFRESH-INTERVAL:P3D
CALSCALE:GREGORIAN
BEGIN:VEVENT
DTSTART:20131208T200000Z
DTEND:20131208T213000Z
X-MICROSOFT-CDO-ALLDAYEVENT:FALSE
SUMMARY:Mountain Community Chorus Christmas Concert
DESCRIPTION:Mountain Community Chorus\, directed by Laura Stooksbury\, will perform its annual Christmas Concert.
X-ALT-DESC;FMTTYPE=text/html:Mountain Community Chorus\, directed by Laura Stooksbury\, will perform its annual Christmas Concert.
LOCATION:Hilda D. Glenn Auditorium\, Young Harris College\, Young Harris\, GA.
UID:e.256.20461
SEQUENCE:3
DTSTAMP:20260424T212206Z
URL:https://members.visitblairsvillega.com/events/details/mountain-community-chorus-christmas-concert-12-08-2013-20461
END:VEVENT

END:VCALENDAR
