BEGIN:VCALENDAR
VERSION:2.0
PRODID:-//ChamberMaster//Event Calendar 2.0//EN
METHOD:PUBLISH
X-PUBLISHED-TTL:P3D
REFRESH-INTERVAL:P3D
CALSCALE:GREGORIAN
BEGIN:VEVENT
DTSTART:20171202T230000Z
DTEND:20171203T020000Z
X-MICROSOFT-CDO-ALLDAYEVENT:FALSE
SUMMARY:Mountain Country Christmas in Lights
DESCRIPTION:Start the Holiday season early at the Georgia Mountain Fairgrounds. It will be transformed into a Festival of Lights starting at the front gate and continuing through the grounds. A delightful event for the whole family. Music\, food and vendors.
X-ALT-DESC;FMTTYPE=text/html:Start the Holiday season early at the Georgia Mountain Fairgrounds. It will be transformed into a Festival of Lights starting at the front gate and continuing through the grounds. A delightful event for the whole family. Music\, food and vendors.
LOCATION:Georgia Mountain Fairgrounds 1311 Music Hall Rd.\, Hwy 76 W Hiawassee\, GA 30546
UID:e.256.76201
SEQUENCE:3
DTSTAMP:20260419T122210Z
URL:https://members.visitblairsvillega.com/events/details/mountain-country-christmas-in-lights-12-02-2017-76201
END:VEVENT

END:VCALENDAR
