BEGIN:VCALENDAR
VERSION:2.0
PRODID:-//ChamberMaster//Event Calendar 2.0//EN
METHOD:PUBLISH
X-PUBLISHED-TTL:P3D
REFRESH-INTERVAL:P3D
CALSCALE:GREGORIAN
BEGIN:VEVENT
DTSTART:20150228T180000Z
DTEND:20150228T230000Z
X-MICROSOFT-CDO-ALLDAYEVENT:FALSE
SUMMARY:Mountain Crossings Thru Hiker Kick Off Party
DESCRIPTION:Mountain Crossings invites you to join in kicking off the 2015 thru hiker season with a family fun celebration! We will have live music\, gear demonstrations\, good food\, face painting\, arts and crafts\, and so much more. Special guest Richard Judy\, author of Thru An Application Trail Love Story\, will also be joining us for a book signing.  As well as all of the exciting activities listed above\, we will be having a gear raffle! 100% of the proceeds go to a project illustrating the history of the A.T. and C.C.C in Union County. The project will include traveling and permanent displays of photos\, records\, recollections\,and history pertaining to the Appalachian Trail and Civilian Conservation Core. Raffle tickets are available now at Mountain Crossings (you do not have to be present to win) If you have any questions or would like to help sell raffle tickets please contact: george@mountaincrossings.com or call 706-745-6095. \n\n\n\nhttps://www.facebook.com/events/1000585016637112/
X-ALT-DESC;FMTTYPE=text/html:Mountain Crossings invites&nbsp\;you to join in kicking off the&nbsp\;2015 thru hiker season with a&nbsp\;family fun celebration! We will&nbsp\;have live music\, gear&nbsp\;demonstrations\, good food\,&nbsp\;face painting\, arts and crafts\,&nbsp\;and so much more.&nbsp\;Special guest Richard Judy\,&nbsp\;author of Thru An Application&nbsp\;Trail Love Story\, will also be&nbsp\;joining us for a book signing. &nbsp\;As well as all of the exciting&nbsp\;activities listed above\, we will&nbsp\;be having a gear raffle! 100%&nbsp\;of the proceeds go to a&nbsp\;project illustrating the history&nbsp\;of the A.T. and C.C.C in Union&nbsp\;County. The project will&nbsp\;include traveling and&nbsp\;permanent displays of&nbsp\;photos\, records\, recollections\,and history pertaining to the&nbsp\;Appalachian Trail and Civilian&nbsp\;Conservation Core. Raffle tickets are available now at Mountain Crossings (you do not have to be present to win) If you have any questions or would like to help sell raffle tickets please contact: george@mountaincrossings.com or call 706-745-6095.&nbsp\;<br />\n<br />\n<a href="https://www.facebook.com/events/1000585016637112/">https://www.facebook.com/events/1000585016637112/</a>
LOCATION:Mountain Crossings 12471 Gainesville Hwy Blairsville\, GA
UID:e.256.36904
SEQUENCE:3
DTSTAMP:20260423T230119Z
URL:https://members.visitblairsvillega.com/events/details/mountain-crossings-thru-hiker-kick-off-party-02-28-2015-36904
END:VEVENT

END:VCALENDAR
