BEGIN:VCALENDAR
VERSION:2.0
PRODID:-//ChamberMaster//Event Calendar 2.0//EN
METHOD:PUBLISH
X-PUBLISHED-TTL:P3D
REFRESH-INTERVAL:P3D
CALSCALE:GREGORIAN
BEGIN:VEVENT
DTSTART:20170225T160000Z
DTEND:20170225T230000Z
X-MICROSOFT-CDO-ALLDAYEVENT:FALSE
SUMMARY:Mountain Crossings' Thru Hiker Season Kick Off Party
DESCRIPTION:Join us for our Annual Thru Hiker Season Kick Off Party! Each year as thru hikers begin to their North Bound journeys to Maine\, we host a party with live music\, food\, fun for the whole family\, a gear raffle and gear demonstrations by outdoor product companies. \n\n\n\nThis year's fun includes good ol' bluegrass pickin' from 1pm to 5pm by Wyatt Espalin and Friends\, a s'mores making station and hotdogs on the grill\, face painting and a scavenger hunt for the kiddos and so much more! \n\n\n\nWe will hold a gear raffle benefitting the A.T. History Project and disaster relief in Gatlinburg\, TN. Gear will include anything from daypacks\, hydropacks\, clothing\, water bottles\, cookware and much\, much more. Raffle Tickets are only $10 and can be purchased at Mountain Crossings\, on the day of the event or by mailed checks. It is not necessary to be present to win\, but you must retrieve your items from Mountain Crossings at a later time. \n\n\n\nCome join Mountain Crossing at the historic Walasi-Yi Center for a day of reveling in the mountains and celebrating the vibrant culture of the Appalachian Trail!\n\n\n\nOUR PARKING LOT IS VERY SMALL! PLEASE TRY TO CARPOOL! THANK YOU!\n\n\n\nCheck out some photos from last year!
X-ALT-DESC;FMTTYPE=text/html:Join us for our Annual Thru Hiker Season Kick Off Party! Each year as thru hikers begin to their North Bound journeys to Maine\, we host a party with live music\, food\, fun for the whole family\, a gear raffle and gear demonstrations by outdoor product companies.&nbsp\;<br />\n<br />\nThis year&#39\;s fun includes good ol&#39\; bluegrass pickin&#39\; from 1pm to 5pm by Wyatt Espalin and Friends\, a s&rsquo\;mores making station and hotdogs on the grill\, face painting and a scavenger hunt for the kiddos and so much more!&nbsp\;<br />\n<br />\nWe will hold a gear raffle benefitting the A.T. History Project and disaster relief in Gatlinburg\, TN. Gear will include anything from daypacks\, hydropacks\, clothing\, water bottles\, cookware and much\, much more. Raffle Tickets are only $10 and can be purchased at Mountain Crossings\, on the day of the event or by mailed checks. It is not necessary to be present to win\, but you must retrieve your items from Mountain Crossings at a later time.&nbsp\;<br />\n<br />\nCome join Mountain Crossing at the historic Walasi-Yi Center for a day of reveling in the mountains and celebrating the vibrant culture of the Appalachian Trail!<br />\n<br />\nOUR PARKING LOT IS VERY SMALL! PLEASE TRY TO CARPOOL! THANK YOU!<br />\n<br />\nCheck out some <a href="https://mountaincrossingsatneelgap.wordpress.com/2016/03/02/photos-of-the-kick-off-party/">photos from last year</a>!
LOCATION:Mountain Crossings at Walasi-yi 12471 Gainesville Hwy Balirsville\, GA 30512
UID:e.256.62229
SEQUENCE:3
DTSTAMP:20260420T061353Z
URL:https://members.visitblairsvillega.com/events/details/mountain-crossings-thru-hiker-season-kick-off-party-62229
END:VEVENT

END:VCALENDAR
