BEGIN:VCALENDAR
VERSION:2.0
PRODID:-//ChamberMaster//Event Calendar 2.0//EN
METHOD:PUBLISH
X-PUBLISHED-TTL:P3D
REFRESH-INTERVAL:P3D
CALSCALE:GREGORIAN
BEGIN:VEVENT
DTSTART:20150328T140000Z
DTEND:20150328T160000Z
X-MICROSOFT-CDO-ALLDAYEVENT:FALSE
SUMMARY:Mountain DAWG 5K Run
DESCRIPTION:Join us for our very 1st 5K fundraiser to benefit the Education programs of the Community Council of the University of Georgia's Mountain Research & Education Center. The Council provides programs to children\, such as Johnny Appleseed and All About Trees at no charge to students. In addition\, the Council offers free seminars and garden tours for adults.
X-ALT-DESC;FMTTYPE=text/html:Join us for our very 1st 5K fundraiser to benefit the Education programs of the Community Council of the University of Georgia&#39\;s Mountain Research &amp\; Education Center. The Council provides programs to children\, such as Johnny Appleseed and All About Trees at no charge to students. In addition\, the Council offers free seminars and garden tours for adults.
LOCATION:Meeks Park\, on the Highway 515 four-lane\, just west of downtown Blairsville\, and across the road from North Georgia Technical College. The physical address is 490 Meeks Park Road\, Blairsville\, Georgia in Union County. GPS coordinates: 34.868358\, -83.977038.
UID:e.256.37059
SEQUENCE:3
DTSTAMP:20260423T211836Z
URL:https://members.visitblairsvillega.com/events/details/mountain-dawg-5k-run-03-28-2015-37059
END:VEVENT

END:VCALENDAR
