BEGIN:VCALENDAR
VERSION:2.0
PRODID:-//ChamberMaster//Event Calendar 2.0//EN
METHOD:PUBLISH
X-PUBLISHED-TTL:P3D
REFRESH-INTERVAL:P3D
CALSCALE:GREGORIAN
BEGIN:VEVENT
DTSTART:20161127T003000Z
DTEND:20161127T023000Z
X-MICROSOFT-CDO-ALLDAYEVENT:FALSE
SUMMARY:Mountain Faith: The Sounds of Christmas - a Live DVD Taping
DESCRIPTION:Join Mountain Faith as they celebrate the sounds of the season with a live DVD taping on the stage of the Smoky Mountain Center for the Performing Arts. Sing along with traditional and sacred Christmas classics and experience a few new surprises in this live event/ concert that is sure to become treasured viewing year after year.
X-ALT-DESC;FMTTYPE=text/html:Join Mountain Faith as they celebrate the sounds of the season with a live DVD taping on the stage of the Smoky Mountain Center for the Performing Arts. Sing along with traditional and sacred Christmas classics and experience a few new surprises in this live event/ concert that is sure to become treasured viewing year after year.
LOCATION:Smoky Mountain Center for the Performing Arts 1028 Georgia Road Franklin\, NC 28734
UID:e.256.49413
SEQUENCE:3
DTSTAMP:20260420T114111Z
URL:https://members.visitblairsvillega.com/events/details/mountain-faith-the-sounds-of-christmas-a-live-dvd-taping-11-26-2016-49413
END:VEVENT

END:VCALENDAR
