BEGIN:VCALENDAR
VERSION:2.0
PRODID:-//ChamberMaster//Event Calendar 2.0//EN
METHOD:PUBLISH
X-PUBLISHED-TTL:P3D
REFRESH-INTERVAL:P3D
CALSCALE:GREGORIAN
BEGIN:VEVENT
DTSTART:20140830T140000Z
DTEND:20140830T210000Z
X-MICROSOFT-CDO-ALLDAYEVENT:FALSE
SUMMARY:Mountain Heritage Festival
DESCRIPTION:Every Labor Day weekend\, the Heritage Festival celebrates the history and mountain culture of Union County in downtown Blairsville\, Georgia.\n\nMountain arts/crafts\, music\, living history activities\, demonstrations on quilting\, spinning\, basket making\, chair caning\, farm animals\, and gold panning\, along with activities for children.\n\nThe activities will be centered round the restored 1861 Payne family log cabin\, the Mauney family barn\, the Duncan family cabin\, and other structures from Union County's past.\n\n\n\nHeritage Festival 2014\n\nMusic Schedule  (Subject to change without notice.)\n\n Saturday :\n\n9:45 AM - Bagpipe opening\n\n10:30 - Nearly Normal String Band\n\n11:30 AM - Roots and Branches\n\n12:30 PM - Jeff Bauman Family Band\n\n1:30 PM  - Don Byers\n\n2:30 PM- Without Pearls\n\n3:30 PM- Buzzard Mountain Boys
X-ALT-DESC;FMTTYPE=text/html:Every Labor Day weekend\, the Heritage Festival celebrates the history and mountain culture of Union County in downtown Blairsville\, Georgia.<br />\nMountain arts/crafts\, music\, living history activities\, demonstrations on quilting\, spinning\, basket making\, chair caning\, farm animals\, and gold panning\, along with activities for children.<br />\nThe activities will be centered round the restored 1861 Payne family log cabin\, the Mauney family barn\, the Duncan family cabin\, and other structures from Union County&#39\;s past.<br />\n<br />\n<strong><span style="color: black\;"><span style="font-family: calibri\,sans-serif\;">Heritage Festival 2014</span></span><br />\n<span style="color: black\;"><span style="font-family: calibri\,sans-serif\;">Music Schedule</span></span></strong>&nbsp\; <span style="color: black\;"><span style="font-family: calibri\,sans-serif\;">(Subject to change without notice.)</span></span><br />\n&nbsp\;<span style="color: black\;"><span style="font-family: calibri\,sans-serif\;">Saturday :</span></span><br />\n<span style="color: black\;"><span style="font-family: calibri\,sans-serif\;">9:45 AM - Bagpipe opening</span></span><br />\n<span style="color: black\;"><span style="font-family: calibri\,sans-serif\;">10:30 - Nearly Normal String Band</span></span><br />\n<span style="color: black\;"><span style="font-family: calibri\,sans-serif\;">11:30 AM - Roots and Branches</span></span><br />\n<span style="color: black\;"><span style="font-family: calibri\,sans-serif\;">12:30 PM - Jeff Bauman Family Band</span></span><br />\n<span style="color: black\;"><span style="font-family: calibri\,sans-serif\;">1:30 PM&nbsp\; - Don Byers</span></span><br />\n<span style="color: black\;"><span style="font-family: calibri\,sans-serif\;">2:30 PM- Without Pearls</span></span><br />\n<span style="color: black\;"><span style="font-family: calibri\,sans-serif\;">3:30 PM- Buzzard Mountain Boys</span></span><br />\n&nbsp\;
LOCATION:Mountain Life Museum 25 School Street (One block south of the Town Square) Blairsville
UID:e.256.20943
SEQUENCE:3
DTSTAMP:20260424T073806Z
URL:https://members.visitblairsvillega.com/events/details/mountain-heritage-festival-08-30-2014-20943
END:VEVENT

END:VCALENDAR
