BEGIN:VCALENDAR
VERSION:2.0
PRODID:-//ChamberMaster//Event Calendar 2.0//EN
METHOD:PUBLISH
X-PUBLISHED-TTL:P3D
REFRESH-INTERVAL:P3D
CALSCALE:GREGORIAN
BEGIN:VEVENT
DTSTART:20140831T130000Z
DTEND:20140831T210000Z
X-MICROSOFT-CDO-ALLDAYEVENT:FALSE
SUMMARY:Mountain Heritage Festival
DESCRIPTION:Every Labor Day weekend\, the Heritage Festival celebrates the history and mountain culture of Union County in downtown Blairsville\, Georgia.\n\nMountain arts/crafts\, music\, living history activities\, demonstrations on quilting\, spinning\, basket making\, chair caning\, farm animals\, and gold panning\, along with activities for children.\n\nHeritage Festival 2014\n\nMusic Schedule  (Subject to change without notice.)\n\nSunday:\n\n12:00 Noon - Raven and Red\n\n1:00 PM- Leap of Faith\n\n2:00 PM- Special Shape Note Singing\n\n3:00 PM- Pickers for Christ
X-ALT-DESC;FMTTYPE=text/html:Every Labor Day weekend\, the Heritage Festival celebrates the history and mountain culture of Union County in downtown Blairsville\, Georgia.<br />\nMountain arts/crafts\, music\, living history activities\, demonstrations on quilting\, spinning\, basket making\, chair caning\, farm animals\, and gold panning\, along with activities for children.<br />\n<strong><span style="color:black\;"><span style="font-family:calibri\,sans-serif\;">Heritage Festival 2014</span></span><br />\n<span style="color:black\;"><span style="font-family:calibri\,sans-serif\;">Music Schedule</span></span></strong>&nbsp\; <span style="color:black\;"><span style="font-family:calibri\,sans-serif\;">(Subject to change without notice.)<br />\nSunday</span></span>:<br />\n<span style="color:black\;"><span style="font-family:calibri\,sans-serif\;">12:00 Noon - Raven and Red</span></span><br />\n<span style="color:black\;"><span style="font-family:calibri\,sans-serif\;">1:00 PM- Leap of Faith</span></span><br />\n<span style="color:black\;"><span style="font-family:calibri\,sans-serif\;">2:00 PM- Special Shape Note Singing</span></span><br />\n<span style="color:black\;"><span style="font-family:calibri\,sans-serif\;">3:00 PM- Pickers for Christ</span></span><br />\n&nbsp\;
LOCATION:Mountain Life Museum 25 School Street (One block south of the Town Square) Blairsville
UID:e.256.20961
SEQUENCE:3
DTSTAMP:20260424T073904Z
URL:https://members.visitblairsvillega.com/events/details/mountain-heritage-festival-08-31-2014-20961
END:VEVENT

END:VCALENDAR
