BEGIN:VCALENDAR
VERSION:2.0
PRODID:-//ChamberMaster//Event Calendar 2.0//EN
METHOD:PUBLISH
X-PUBLISHED-TTL:P3D
REFRESH-INTERVAL:P3D
CALSCALE:GREGORIAN
BEGIN:VEVENT
DTSTART:20160526T130000Z
DTEND:20160526T170000Z
X-MICROSOFT-CDO-ALLDAYEVENT:FALSE
SUMMARY:Mountain High Hikers Trail Maintenance
DESCRIPTION:Weekly maintenance of trails in North Carolina and Georgia
X-ALT-DESC;FMTTYPE=text/html:Weekly maintenance of trails in North Carolina and Georgia
LOCATION:Check website for information on trails to maintain.
UID:e.256.48197
SEQUENCE:3
DTSTAMP:20260421T002319Z
URL:https://members.visitblairsvillega.com/events/details/mountain-high-hikers-trail-maintenance-05-26-2016-48197
END:VEVENT

END:VCALENDAR
