BEGIN:VCALENDAR
VERSION:2.0
PRODID:-//ChamberMaster//Event Calendar 2.0//EN
METHOD:PUBLISH
X-PUBLISHED-TTL:P3D
REFRESH-INTERVAL:P3D
CALSCALE:GREGORIAN
BEGIN:VEVENT
DTSTART:20141122T140000Z
DTEND:20141122T200000Z
X-MICROSOFT-CDO-ALLDAYEVENT:FALSE
SUMMARY:Mountain Holiday Fest
DESCRIPTION:Join us for a fun-filled Holiday event. Santa Claus is making an early stop in Blairsville before he gets super busy up at the North Pole! Stop in for by for family-friendly holiday fun and get an early start on your gift shopping while the kids enjoy some fun holiday crafts and get their picture taken with Santa! Event Hosted by Mountain Networking Referral Group. Please help us support Union County families in need by donating much needed canned goods to our local Food Bank located at the Civic Center.
X-ALT-DESC;FMTTYPE=text/html:Join us for a fun-filled Holiday event. Santa Claus is making an early stop in Blairsville before he gets super busy up at the North Pole! Stop in for by for family-friendly holiday fun and get an early start on your gift shopping while the kids enjoy some fun holiday crafts and get their picture taken with Santa! Event Hosted by Mountain Networking Referral Group. Please help us support Union County families in need by donating much needed canned goods to our local Food Bank located at the Civic Center.
LOCATION:Pat Haralson Memorial Civic Center 165 Wellborn Street Blairsville\, GA
UID:e.256.27588
SEQUENCE:3
DTSTAMP:20260424T033454Z
URL:https://members.visitblairsvillega.com/events/details/mountain-holiday-fest-11-22-2014-27588
END:VEVENT

END:VCALENDAR
